Workbook

Sheet 様式１
F1: 別紙２（調査様式１）
A2: 課税免除車実態調査票
F4: 鹿児島県 鹿児島地域振興局 自動車税課
A5: 車検証の使用 者氏名・名称
A6: 電話番号 ※市外局番も含め記入ください | C6: ( ） | E6: 記入者名
A7: 住所
A8: 調査年月日 | C8: 令和 年 月 日
A9: NO | C9: 1 | D9: 2 | E9: 3 | F9: 4
C10: （ ）はひらがなで記入してください。 | D10: （ ）はひらがなで記入してください。 | E10: （ ）はひらがなで記入してください。 | F10: （ ）はひらがなで記入してください。
A11: 課税免除車登録番号 | C11: （ ） | D11: （ ） | E11: （ ） | F11: （ ）
A12: 車台番号( ) | C12: 車台番号( ) | D12: 車台番号( ) | E12: 車台番号( ) | F12: 車台番号( )
A13: 使用している 施設の名称 及び 入所者数等
C15: 入所者 ( 名) | D15: 入所者 ( 名) | E15: 入所者 ( 名) | F15: 入所者 ( 名)
C16: 通園・通所者（ 名） | D16: 通園・通所者（ 名） | E16: 通園・通所者（ 名） | F16: 通園・通所者（ 名）
C17: その他 ( 名) | D17: その他 ( 名) | E17: その他 ( 名) | F17: その他 ( 名)
A18: 認定事業名 | C18: □ 第１種社会福祉事業 | D18: □ 第１種社会福祉事業 | E18: □ 第１種社会福祉事業 | F18: □ 第１種社会福祉事業
A19: ※該当を■にしてください。 | C19: □ 第２種社会福祉事業 | D19: □ 第２種社会福祉事業 | E19: □ 第２種社会福祉事業 | F19: □ 第２種社会福祉事業
A20: 使用施設の種別
A21: 使用施設の電話番号 | C21: （ ） | D21: （ ） | E21: （ ） | F21: （ ）
A22: 使用形態
A23: 様式２（内訳書）の６か月平均の使用率（B、C、E、F）になります。（様式２から自動転記されます。）
A24: 使用日数の使用率（％） | B24: 目的内使用 | C24: ='様式２（内訳書)'!L11 | D24: ='様式２（内訳書)'!L27 | E24: ='様式２（内訳書)'!L47 | F24: ='様式２（内訳書)'!L63
B25: 突発事案使用 控除後の 目的内使用 | C25: ='様式２（内訳書)'!L12 | D25: ='様式２（内訳書)'!L28 | E25: ='様式２（内訳書)'!L48 | F25: ='様式２（内訳書)'!L64
A26: 走行距離の使用率（％） | B26: 目的内使用 | C26: ='様式２（内訳書)'!L17 | D26: ='様式２（内訳書)'!L33 | E26: ='様式２（内訳書)'!L53 | F26: ='様式２（内訳書)'!L69
B27: 突発事案使用 控除後の 目的内使用 | C27: ='様式２（内訳書)'!L18 | D27: ='様式２（内訳書)'!L34 | E27: ='様式２（内訳書)'!L54 | F27: ='様式２（内訳書)'!L70
A29: （調査票の記入について）
A30: １ 入所者数
A31: 入所者数、通園・通所者、その他（具体的に）それぞれ記入してください。
A32: ２ 使用する施設の名称
A33: 課税免除車が実際に使用されている施設の名称、その施設の種別及び電話番号を記入してください。
A34: ３ 使用形態
A35: 運行日誌から、主な用務（送迎用、病院への輸送用、職業訓練用、事業物資運搬用等）を記入してください。
A36: ４ 使用日数・走行距離の使用率
A37: 様式２（内訳書）の６か月平均の使用率（B、C、E、F）になります。（自動転記されます。）
A38: ５ この調査票で４台まで記入できます。
A39: ４台以上の場合は、シートを追加せずに新たなファイルで作成してください。
A41: ※以下の欄は記入しないでください。 自動車税課担当者名（ ）
... A43: 走行距離の区分判定

Sheet 様式２（内訳書)
B1: 別紙２（調査様式２）
B2: 課税免除車実態調査票 内訳書 ①
A3: 記入上の注意をよく読んで、車両運行日誌から令和８年４月から令和８年９月までの目的内・目的外・突発事案使用の日数(a、b、c）及び走行距離（d、e、f）欄に月ごとに集計した総数を記入してください。（※着色部分には様式１からの自動転記、計算式が入っていますので、ご留意ください。）
A4: １ 登録番号 | D4: =IF(様式１!C11="","",様式１!C11) -> （ ）
A5: 施設の名称 | D5: =IF(様式１!C13="","",様式１!C13)
D6: ４月 | E6: ５月 | F6: ６月 | G6: ７月 | H6: ８月 | I6: ９月 | L6: ６か月 合計 | M6: ８か月 合計
A7: 日数 | B7: 使用日数（日） | C7: A=a+b+c | D7: =SUM(D8:D10) -> 0 | E7: =SUM(E8:E10) -> 0 | F7: =SUM(F8:F10) -> 0 | G7: =SUM(G8:G10) -> 0 | H7: =SUM(H8:H10) -> 0 | I7: =SUM(I8:I10) -> 0 | J7: =SUM(J8:J10) -> 0 | K7: =SUM(K8:K10) -> 0 | L7: =SUM(D7:I7) -> 0 | M7: =L7+J7+K7 -> 0
B8: 目的内使用（日） | C8: a | L8: =SUM(D8:I8) -> 0 | M8: =L8+J8+K8 -> 0
B9: 目的外使用（日） | C9: b | L9: =SUM(D9:I9) -> 0 | M9: =L9+J9+K9 -> 0
B10: 突発事案使用（日） | C10: c | L10: =SUM(D10:I10) -> 0 | M10: =L10+J10+K10 -> 0
B11: 目的内使用率(%) | C11: B=a/A*100 | L11: =IFERROR(ROUNDDOWN((L8/L7)*100,1),"") | M11: =IFERROR(ROUNDDOWN((M8/M7)*100,1),"")
B12: 突発事案使用控除後の 目的内使用率(%) | C12: C=a/(A-c)*100 | L12: =IFERROR(ROUNDDOWN(L8/(L7-L10)*100,1),"") | M12: =IFERROR(ROUNDDOWN(M8/(M7-M10)*100,1),"")
A13: 走行距離 | B13: 使用走行距離（ｋm） | C13: D=d+e+f | D13: =SUM(D14:D16) -> 0 | E13: =SUM(E14:E16) -> 0 | F13: =SUM(F14:F16) -> 0 | G13: =SUM(G14:G16) -> 0 | H13: =SUM(H14:H16) -> 0 | I13: =SUM(I14:I16) -> 0 | J13: =SUM(J14:J16) -> 0 | K13: =SUM(K14:K16) -> 0 | L13: =SUM(D13:I13) -> 0 | M13: =L13+J13+K13 -> 0
B14: 目的内使用（ｋm） | C14: d | L14: =SUM(D14:I14) -> 0 | M14: =L14+J14+K14 -> 0
B15: 目的外使用（ｋm） | C15: e | L15: =SUM(D15:I15) -> 0 | M15: =L15+J15+K15 -> 0
B16: 突発事案使用（ｋｍ） | C16: f | L16: =SUM(D16:I16) -> 0 | M16: =L16+J16+K16 -> 0
B17: 目的内使用率(%) | C17: E=d/D*100 | L17: =IFERROR(ROUNDDOWN((L14/L13)*100,1),"") | M17: =IFERROR(ROUNDDOWN((M14/M13)*100,1),"")
B18: 突発事案使用控除後の 目的内使用率(%) | C18: F=d/(D-f)*100 | L18: =IFERROR(ROUNDDOWN(L14/(L13-L16)*100,1),"") | M18: =IFERROR(ROUNDDOWN(M14/(M13-M16)*100,1),"")
A20: ２ 登録番号 | D20: =IF(様式１!D11="","",様式１!D11) -> （ ）
A21: 施設の名称 | D21: =IF(様式１!D13="","",様式１!D13)
D22: ４月 | E22: ５月 | F22: ６月 | G22: ７月 | H22: ８月 | I22: ９月 | L22: ６か月 合計 | M22: ８か月 合計
A23: 日数 | B23: 使用日数（日） | C23: A=a+b+c | D23: =SUM(D24:D26) -> 0 | E23: =SUM(E24:E26) -> 0 | F23: =SUM(F24:F26) -> 0 | G23: =SUM(G24:G26) -> 0 | H23: =SUM(H24:H26) -> 0 | I23: =SUM(I24:I26) -> 0 | J23: =SUM(J24:J26) -> 0 | K23: =SUM(K24:K26) -> 0 | L23: =SUM(D23:I23) -> 0 | M23: =L23+J23+K23 -> 0
B24: 目的内使用（日） | C24: a | L24: =SUM(D24:I24) -> 0 | M24: =L24+J24+K24 -> 0
B25: 目的外使用（日） | C25: b | L25: =SUM(D25:I25) -> 0 | M25: =L25+J25+K25 -> 0
B26: 突発事案使用（日） | C26: c | L26: =SUM(D26:I26) -> 0 | M26: =L26+J26+K26 -> 0
B27: 目的内使用率(%) | C27: B=a/A*100 | L27: =IFERROR(ROUNDDOWN((L24/L23)*100,1),"") | M27: =IFERROR(ROUNDDOWN((M24/M23)*100,1),"")
B28: 突発事案使用控除後の 目的内使用率(%) | C28: C=a/(A-c)*100 | L28: =IFERROR(ROUNDDOWN(L24/(L23-L26)*100,1),"") | M28: =IFERROR(ROUNDDOWN(M24/(M23-M26)*100,1),"")
A29: 走行距離 | B29: 使用走行距離（ｋm） | C29: D=d+e+f | D29: =SUM(D30:D32) -> 0 | E29: =SUM(E30:E32) -> 0 | F29: =SUM(F30:F32) -> 0 | G29: =SUM(G30:G32) -> 0 | H29: =SUM(H30:H32) -> 0 | I29: =SUM(I30:I32) -> 0 | J29: =SUM(J30:J32) -> 0 | K29: =SUM(K30:K32) -> 0 | L29: =SUM(D29:I29) -> 0 | M29: =L29+J29+K29 -> 0
B30: 目的内使用（ｋm） | C30: d | L30: =SUM(D30:I30) -> 0 | M30: =L30+J30+K30 -> 0
B31: 目的外使用（ｋm） | C31: e | L31: =SUM(D31:I31) -> 0 | M31: =L31+J31+K31 -> 0
B32: 突発事案使用（ｋｍ） | C32: f | L32: =SUM(D32:I32) -> 0 | M32: =L32+J32+K32 -> 0
B33: 目的内使用率(%) | C33: E=d/D*100 | L33: =IFERROR(ROUNDDOWN((L30/L29)*100,1),"") | M33: =IFERROR(ROUNDDOWN((M30/M29)*100,1),"")
B34: 突発事案使用控除後の 目的内使用率(%) | C34: F=d/(D-f)*100 | L34: =IFERROR(ROUNDDOWN(L30/(L29-L32)*100,1),"") | M34: =IFERROR(ROUNDDOWN(M30/(M29-M32)*100,1),"")
A36: 【記入上の注意】 １ 目的内使用→入所者・施設利用者が必ず同乗して使用している場合。 目的外使用→職員のみの乗車（入所者・施設利用者が同乗していない。）で使用した場合。 突発事案使用→災害時や行方不明者等の捜索等で使用した場合。 ★ 目的の用には、職員のみの乗車（研修や会議、薬の受け取り等）は含みません。 ２ 同じ日に目的内使用・目的外使用・突発事案使用のある場合 →目的内使用日数に含む。（目的外使用日数及び突発事案使用日数には含まない。） →走行距離は、目的内・目的外・突発事案使用走行距離それぞれに分けてカウントし、月の集計を記入する。
B37: 別紙２（調査様式２）
B38: 課税免除車実態調査票 内訳書 ②
A39: 記入上の注意をよく読んで、車両運行日誌から令和８年４月から令和８年９月までの目的内・目的外・突発事案使用の日数(a、b、c）及び走行距離（d、e、f）欄に月ごとに集計した総数を記入してください。（※着色部分には様式１からの自動転記、計算式が入っていますので、ご留意ください。）
A40: ３ 登録番号 | D40: =IF(様式１!E11="","",様式１!E11) -> （ ）
A41: 施設の名称 | D41: =IF(様式１!E13="","",様式１!E13)
D42: ４月 | E42: ５月 | F42: ６月 | G42: ７月 | H42: ８月 | I42: ９月 | L42: ６か月 合計 | M42: ８か月 合計
...

Sheet Sheet1
