Workbook

Sheet 総括表
B1: 令和6年度 財政状況資料集
B2: 総括表（市町村）
B3: 都道府県名 | L3: 鹿児島県 | W3: 市町村類型 | AC3: Ⅱ－１ | AM3: 指定団体等の指定状況 | AY3: 区分 | BN3: 令和6年度(千円) | BV3: 令和5年度(千円) | CD3: 区分 | CT3: 令和6年度(千円･％) | DB3: 令和5年度(千円･％)
AY4: 歳入総額 | BN4: 35408518 | BV4: 33372109 | CD4: 実質収支比率 | CT4: 6.6 | DB4: 7.6
AM5: 財政健全化等 | AU5: × | AY5: 歳出総額 | BN5: 33869792 | BV5: 31954410 | CD5: 経常収支比率 | CT5: 86.4 | DB5: 89.1
B6: 市町村名 | L6: 出水市 | W6: 地方交付税種地 | AC6: 1-1 | AM6: 財源超過 | AU6: × | AY6: 歳入歳出差引 | BN6: 1538726 | BV6: 1417699 | CD6: (※1) | CT6: 86.6 | DB6: 89.6
AM7: 首都 | AU7: × | AY7: 翌年度に繰越すべき財源 | BN7: 416644 | BV7: 167995 | CD7: 標準財政規模 | CT7: 16888474 | DB7: 16427201
AM8: 近畿 | AU8: × | AY8: 実質収支 | BN8: 1122082 | BV8: 1249704 | CD8: 財政力指数 | CT8: 0.43 | DB8: 0.42
B9: 人口 | L9: 令和2年国調(人) | R9: 51994 | W9: 産業構造 (※5) | AM9: 中部 | AU9: × | AY9: 単年度収支 | BN9: -127622 | BV9: -194219 | CD9: 公債費負担比率 | CT9: 11 | DB9: 11.1
L10: 平成27年国調(人) | R10: 53758 | AM10: 過疎 | AU10: ○ | AY10: 積立金 | BN10: 7000 | BV10: 786300 | CD10: 健全化判断比率
L11: 増減率 (％) | R11: -3.3 | AM11: 山振 | AU11: ○ | AY11: 繰上償還金 | BN11: 0 | BV11: 0 | CD11: 実質赤字比率 | CT11: - | DB11: -
B12: 住民基本台帳人口 (※7) | L12: 令07.01.01(人) | R12: 51405 | W12: 区分 | AC12: 令和2年国調 | AH12: 平成27年国調 | AM12: 低開発 | AU12: ○ | AY12: 積立金取崩し額 | BN12: 0 | BV12: 400000 | CD12: 連結実質赤字比率 | CT12: - | DB12: -
M13: うち日本人(人) | R13: 50156 | W13: 第1次 | AC13: 2886 | AH13: 3530 | AM13: 指数表選定 | AU13: ○ | AY13: 実質単年度収支 | BN13: -120622 | BV13: 192081 | CD13: 実質公債費比率 | CT13: 7 | DB13: 7.5
L14: 令06.01.01(人) | R14: 51783 | AC14: 11.7 | AH14: 14 | CD14: 将来負担比率 | CT14: - | DB14: -
M15: うち日本人(人) | R15: 50766 | W15: 第2次 | AC15: 6462 | AH15: 6326 | AY15: 基準財政収入額 | BN15: 6416418 | BV15: 6340060 | CD15: 資金不足比率 (※4)
L16: 増減率 (％) | R16: -0.7 | AC16: 26.2 | AH16: 25.1 | AY16: 基準財政需要額 | BN16: 15166702 | BV16: 14704402
M17: うち日本人(％) | R17: -1.2 | W17: 第3次 | AC17: 15317 | AH17: 15358 | AY17: 標準税収入額等 | BN17: 8075889 | BV17: 7968659
B18: 面積 (k㎡) | L18: 329.98 | AC18: 62.1 | AH18: 60.9 | AY18: 経常経費充当一般財源等 | BN18: 14737829 | BV18: 14833573
B19: 人口密度 (人/k㎡) | L19: 158 | AY19: 歳入一般財源等 | BN19: 21068170 | BV19: 22143137
B20: 世帯数 (世帯) | L20: 22796
B21: 職員の状況 (※8)
B22: 特別職等 | E22: 区分 | L22: 定数 | Q22: 1人あたり平均 給料月額(百円) | W22: 一般職員等(※6) | Z22: 区分 | AH22: 職員数 (人) | AM22: 給料月額 (百円) | AS22: 1人あたり平均 給料月額(百円) | AY22: 地方債現在高 | BN22: 20379635 | BV22: 21404393
AY23: うち公的資金 | BN23: 9808540 | BV23: 9987032
E24: 市区町村長 | L24: 1 | Q24: 8640 | Z24: 一般職員 | AH24: 503 | AM24: 1598534 | AS24: 3178 | AY24: 地方債現在高（臨時財政対策債除き） | BN24: 14323970 | BV24: 14630175
E25: 副市区町村長 | L25: 1 | Q25: 6520 | Z25: うち消防職員 | AH25: 72 | AM25: 211680 | AS25: 2940 | AY25: 債務負担行為額（支出予定額） | BN25: 2574166 | BV25: 3178495
E26: 教育長 | L26: 1 | Q26: 6270 | Z26: うち技能労務職員 | AH26: 23 | AM26: 77004 | AS26: 3348 | AY26: 収益事業収入 | BN26: - | BV26: -
E27: 議会議長 | L27: 1 | Q27: 4090 | Z27: 教育公務員 | AH27: 53 | AM27: 207843 | AS27: 3922 | AY27: 土地開発基金現在高 | BN27: 650000 | BV27: 650000
E28: 議会副議長 | L28: 1 | Q28: 3260 | Z28: 臨時職員 | AH28: - | AM28: - | AS28: - | AY28: 積立金 現在高 | BC28: 財政調整基金 | BN28: 8041000 | BV28: 8034000
E29: 議会議員 | L29: 18 | Q29: 3030 | Z29: 合計 | AH29: 556 | AM29: 1806377 | AS29: 3249 | BC29: 減債基金 | BN29: 3273300 | BV29: 3037500
W30: ラスパイレス指数 | AH30: 97.7 | BC30: その他特定目的基金 | BN30: 7818481 | BV30: 7312696
C32: 一般会計等の一覧 | U32: 事業会計の一覧 | AM32: 公営企業（法適）の一覧 | BE32: 公営企業（法非適）の一覧 | BW32: 関係する一部事務組合等一覧 | CO32: 地方公社・第三セクター等一覧
C33: 項番 | E33: 会計名 | U33: 項番 | W33: 会計名 | AM33: 項番 | AO33: 会計名 | BE33: 項番 | BG33: 会計名 | BW33: 項番 | BY33: 組合等名 | CO33: 項番 | CQ33: 団体名 | DG33: (※3)
C34: =IF(E34="","",1) -> 1 | E34: =IF('各会計、関係団体の財政状況及び健全化判断比率'!B7="","",'各会計、関係団体の財政状況及び健全化判断比率'!B7) -> 一般会計 | U34: =IF(W34="","",MAX(C34:D43)+1) -> 2 | W34: =IF('各会計、関係団体の財政状況及び健全化判断比率'!B28="","",'各会計、関係団体の財政状況及び健全化判断比率'!B28) -> 国民健康保険特別会計 | AM34: =IF(AO34="","",MAX(C34:D43,U34:V43)+1) -> 6 | AO34: =IF('各会計、関係団体の財政状況及び健全化判断比率'!B32="","",'各会計、関係団体の財政状況及び健全化判断比率'!B32) -> 水道事業会計 | BE34: =IF(BG34="","",MAX(C34:D43,U34:V43,AM34:AN43)+1) -> 11 | BG34: =IF('各会計、関係団体の財政状況及び健全化判断比率'!B37="","",'各会計、関係団体の財政状況及び健全化判断比率'!B37) -> 地方卸売市場特別会計 | BW34: =IF(BY34="","",MAX(C34:D43,U34:V43,AM34:AN43,BE34:BF43)+1) -> 12 | BY34: =IF('各会計、関係団体の財政状況及び健全化判断比率'!B68="","",'各会計、関係団体の財政状況及び健全化判断比率'!B68) -> 北薩広域行政事務組合 | CO34: =IF(CQ34="","",MAX(C34:D43,U34:V43,AM34:AN43,BE34:BF43,BW34:BX43)+1) -> 16 | CQ34: =IF('各会計、関係団体の財政状況及び健全化判断比率'!BS7="","",'各会計、関係団体の財政状況及び健全化判断比率'!BS7) -> 株式会社いずみみらい | DG34: =IF('各会計、関係団体の財政状況及び健全化判断比率'!BR7="","",'各会計、関係団体の財政状況及び健全化判断比率'!BR7)
C35: =IF(E35="","",C34+1) | E35: =IF('各会計、関係団体の財政状況及び健全化判断比率'!B8="","",'各会計、関係団体の財政状況及び健全化判断比率'!B8) | U35: =IF(W35="","",U34+1) -> 3 | W35: =IF('各会計、関係団体の財政状況及び健全化判断比率'!B29="","",'各会計、関係団体の財政状況及び健全化判断比率'!B29) -> 介護保険特別会計 | AM35: =IF(AO35="","",AM34+1) -> 7 | AO35: =IF('各会計、関係団体の財政状況及び健全化判断比率'!B33="","",'各会計、関係団体の財政状況及び健全化判断比率'!B33) -> 病院事業会計 | BE35: =IF(BG35="","",BE34+1) | BW35: =IF(BY35="","",BW34+1) -> 13 | BY35: =IF('各会計、関係団体の財政状況及び健全化判断比率'!B69="","",'各会計、関係団体の財政状況及び健全化判断比率'!B69) -> 鹿児島県市町村総合事務組合 | CO35: =IF(CQ35="","",CO34+1) | CQ35: =IF('各会計、関係団体の財政状況及び健全化判断比率'!BS8="","",'各会計、関係団体の財政状況及び健全化判断比率'!BS8) | DG35: =IF('各会計、関係団体の財政状況及び健全化判断比率'!BR8="","",'各会計、関係団体の財政状況及び健全化判断比率'!BR8)
C36: =IF(E36="","",C35+1) | E36: =IF('各会計、関係団体の財政状況及び健全化判断比率'!B9="","",'各会計、関係団体の財政状況及び健全化判断比率'!B9) | U36: =IF(W36="","",U35+1) -> 4 | W36: =IF('各会計、関係団体の財政状況及び健全化判断比率'!B30="","",'各会計、関係団体の財政状況及び健全化判断比率'!B30) -> 後期高齢者医療特別会計 | AM36: =IF(AO36="","",AM35+1) -> 8 | AO36: =IF('各会計、関係団体の財政状況及び健全化判断比率'!B34="","",'各会計、関係団体の財政状況及び健全化判断比率'!B34) -> 下水道事業会計（公共下水道事業） | BE36: =IF(BG36="","",BE35+1) | BW36: =IF(BY36="","",BW35+1) -> 14 | BY36: =IF('各会計、関係団体の財政状況及び健全化判断比率'!B70="","",'各会計、関係団体の財政状況及び健全化判断比率'!B70) -> 鹿児島県後期高齢者医療広域連合（一般会計） | CO36: =IF(CQ36="","",CO35+1) | CQ36: =IF('各会計、関係団体の財政状況及び健全化判断比率'!BS9="","",'各会計、関係団体の財政状況及び健全化判断比率'!BS9) | DG36: =IF('各会計、関係団体の財政状況及び健全化判断比率'!BR9="","",'各会計、関係団体の財政状況及び健全化判断比率'!BR9)
C37: =IF(E37="","",C36+1) | E37: =IF('各会計、関係団体の財政状況及び健全化判断比率'!B10="","",'各会計、関係団体の財政状況及び健全化判断比率'!B10) | U37: =IF(W37="","",U36+1) -> 5 | W37: =IF('各会計、関係団体の財政状況及び健全化判断比率'!B31="","",'各会計、関係団体の財政状況及び健全化判断比率'!B31) -> 交通災害共済特別会計 | AM37: =IF(AO37="","",AM36+1) -> 9 | AO37: =IF('各会計、関係団体の財政状況及び健全化判断比率'!B35="","",'各会計、関係団体の財政状況及び健全化判断比率'!B35) -> 下水道事業会計（特定環境保全公共下水道事業） | BE37: =IF(BG37="","",BE36+1) | BW37: =IF(BY37="","",BW36+1) -> 15 | BY37: =IF('各会計、関係団体の財政状況及び健全化判断比率'!B71="","",'各会計、関係団体の財政状況及び健全化判断比率'!B71) -> 鹿児島県後期高齢者医療広域連合（特別会計） | CO37: =IF(CQ37="","",CO36+1) | CQ37: =IF('各会計、関係団体の財政状況及び健全化判断比率'!BS10="","",'各会計、関係団体の財政状況及び健全化判断比率'!BS10) | DG37: =IF('各会計、関係団体の財政状況及び健全化判断比率'!BR10="","",'各会計、関係団体の財政状況及び健全化判断比率'!BR10)
C38: =IF(E38="","",C37+1) | E38: =IF('各会計、関係団体の財政状況及び健全化判断比率'!B11="","",'各会計、関係団体の財政状況及び健全化判断比率'!B11) | U38: =IF(W38="","",U37+1) | AM38: =IF(AO38="","",AM37+1) -> 10 | AO38: =IF('各会計、関係団体の財政状況及び健全化判断比率'!B36="","",'各会計、関係団体の財政状況及び健全化判断比率'!B36) -> 下水道事業会計（農業集落排水事業） | BE38: =IF(BG38="","",BE37+1) | BW38: =IF(BY38="","",BW37+1) | BY38: =IF('各会計、関係団体の財政状況及び健全化判断比率'!B72="","",'各会計、関係団体の財政状況及び健全化判断比率'!B72) | CO38: =IF(CQ38="","",CO37+1) | CQ38: =IF('各会計、関係団体の財政状況及び健全化判断比率'!BS11="","",'各会計、関係団体の財政状況及び健全化判断比率'!BS11) | DG38: =IF('各会計、関係団体の財政状況及び健全化判断比率'!BR11="","",'各会計、関係団体の財政状況及び健全化判断比率'!BR11)
C39: =IF(E39="","",C38+1) | E39: =IF('各会計、関係団体の財政状況及び健全化判断比率'!B12="","",'各会計、関係団体の財政状況及び健全化判断比率'!B12) | U39: =IF(W39="","",U38+1) | AM39: =IF(AO39="","",AM38+1) | BE39: =IF(BG39="","",BE38+1) | BW39: =IF(BY39="","",BW38+1) | BY39: =IF('各会計、関係団体の財政状況及び健全化判断比率'!B73="","",'各会計、関係団体の財政状況及び健全化判断比率'!B73) | CO39: =IF(CQ39="","",CO38+1) | CQ39: =IF('各会計、関係団体の財政状況及び健全化判断比率'!BS12="","",'各会計、関係団体の財政状況及び健全化判断比率'!BS12) | DG39: =IF('各会計、関係団体の財政状況及び健全化判断比率'!BR12="","",'各会計、関係団体の財政状況及び健全化判断比率'!BR12)
C40: =IF(E40="","",C39+1) | E40: =IF('各会計、関係団体の財政状況及び健全化判断比率'!B13="","",'各会計、関係団体の財政状況及び健全化判断比率'!B13) | U40: =IF(W40="","",U39+1) | AM40: =IF(AO40="","",AM39+1) | BE40: =IF(BG40="","",BE39+1) | BW40: =IF(BY40="","",BW39+1) | BY40: =IF('各会計、関係団体の財政状況及び健全化判断比率'!B74="","",'各会計、関係団体の財政状況及び健全化判断比率'!B74) | CO40: =IF(CQ40="","",CO39+1) | CQ40: =IF('各会計、関係団体の財政状況及び健全化判断比率'!BS13="","",'各会計、関係団体の財政状況及び健全化判断比率'!BS13) | DG40: =IF('各会計、関係団体の財政状況及び健全化判断比率'!BR13="","",'各会計、関係団体の財政状況及び健全化判断比率'!BR13)
C41: =IF(E41="","",C40+1) | E41: =IF('各会計、関係団体の財政状況及び健全化判断比率'!B14="","",'各会計、関係団体の財政状況及び健全化判断比率'!B14) | U41: =IF(W41="","",U40+1) | AM41: =IF(AO41="","",AM40+1) | BE41: =IF(BG41="","",BE40+1) | BW41: =IF(BY41="","",BW40+1) | BY41: =IF('各会計、関係団体の財政状況及び健全化判断比率'!B75="","",'各会計、関係団体の財政状況及び健全化判断比率'!B75) | CO41: =IF(CQ41="","",CO40+1) | CQ41: =IF('各会計、関係団体の財政状況及び健全化判断比率'!BS14="","",'各会計、関係団体の財政状況及び健全化判断比率'!BS14) | DG41: =IF('各会計、関係団体の財政状況及び健全化判断比率'!BR14="","",'各会計、関係団体の財政状況及び健全化判断比率'!BR14)
...

Sheet 普通会計の状況
DH1: 令和6年度 | DP1: 鹿児島県出水市
B2: (1) 普通会計の状況（市町村）
B3: 歳入の状況（単位 千円・％） | AP3: 地方税の状況（単位 千円・％） | CD3: 歳出の状況（単位 千円・％）
B4: 区分 | R4: 決算額 | Z4: 構成比 | AD4: 経常一般財源等 | AL4: 構成比 | AP4: 区分 | BG4: 収入済額 | BO4: 構成比 | BS4: 超過課税分 | CD4: 目的別歳出の状況（単位 千円・％）
B5: 地方税 | R5: 6061862 | Z5: 17.1 | AD5: 6061862 | AL5: 35.6 | AP5: 普通税 | BG5: 6061664 | BO5: 100 | BS5: 65573 | CD5: 区分 | CR5: 決算額 (A) | CZ5: 構成比 | DD5: (A)のうち普通建設事業費 | DQ5: (A)のうち充当一般財源等
B6: 地方譲与税 | R6: 310667 | Z6: 0.9 | AD6: 310667 | AL6: 1.8 | AP6: 法定普通税 | BG6: 6061664 | BO6: 100 | BS6: 65573 | CD6: 議会費 | CR6: 173066 | CZ6: 0.5 | DD6: - | DQ6: 173066
B7: 利子割交付金 | R7: 2133 | Z7: 0 | AD7: 2133 | AL7: 0 | AP7: 市町村民税 | BG7: 2159567 | BO7: 35.6 | BS7: 65573 | CD7: 総務費 | CR7: 4042313 | CZ7: 11.9 | DD7: 18211 | DQ7: 3104648
B8: 配当割交付金 | R8: 24419 | Z8: 0.1 | AD8: 24419 | AL8: 0.1 | AP8: 個人均等割 | BG8: 73342 | BO8: 1.2 | BS8: - | CD8: 民生費 | CR8: 12650111 | CZ8: 37.3 | DD8: 295629 | DQ8: 6136614
B9: 株式等譲渡所得割交付金 | R9: 34090 | Z9: 0.1 | AD9: 34090 | AL9: 0.2 | AP9: 所得割 | BG9: 1715497 | BO9: 28.3 | BS9: - | CD9: 衛生費 | CR9: 2183972 | CZ9: 6.4 | DD9: 19721 | DQ9: 2022660
B10: 分離課税所得割交付金 | R10: - | Z10: - | AD10: - | AL10: - | AP10: 法人均等割 | BG10: 141114 | BO10: 2.3 | BS10: - | CD10: 労働費 | CR10: 20079 | CZ10: 0.1 | DD10: - | DQ10: 20042
B11: 地方消費税交付金 | R11: 1317675 | Z11: 3.7 | AD11: 1317675 | AL11: 7.7 | AP11: 法人税割 | BG11: 229614 | BO11: 3.8 | BS11: 65573 | CD11: 農林水産業費 | CR11: 4891085 | CZ11: 14.4 | DD11: 3852436 | DQ11: 866214
B12: ゴルフ場利用税交付金 | R12: 7346 | Z12: 0 | AD12: 7346 | AL12: 0 | AP12: 固定資産税 | BG12: 3252838 | BO12: 53.7 | BS12: - | CD12: 商工費 | CR12: 516756 | CZ12: 1.5 | DD12: 69282 | DQ12: 394858
B13: 自動車取得税交付金 | R13: - | Z13: - | AD13: - | AL13: - | AP13: うち純固定資産税 | BG13: 3215982 | BO13: 53.1 | BS13: - | CD13: 土木費 | CR13: 2571061 | CZ13: 7.6 | DD13: 1489722 | DQ13: 1317219
B14: 軽油引取税交付金 | R14: - | Z14: - | AD14: - | AL14: - | AP14: 軽自動車税 | BG14: 246530 | BO14: 4.1 | BS14: - | CD14: 消防費 | CR14: 729045 | CZ14: 2.2 | DD14: 35104 | DQ14: 667339
B15: 自動車税環境性能割交付金 | R15: 21872 | Z15: 0.1 | AD15: 21872 | AL15: 0.1 | AP15: 市町村たばこ税 | BG15: 402729 | BO15: 6.6 | BS15: - | CD15: 教育費 | CR15: 3235246 | CZ15: 9.6 | DD15: 713065 | DQ15: 2393831
B16: 法人事業税交付金 | R16: 88930 | Z16: 0.3 | AD16: 88930 | AL16: 0.5 | AP16: 鉱産税 | BG16: - | BO16: - | BS16: - | CD16: 災害復旧費 | CR16: 402796 | CZ16: 1.2 | DD16: - | DQ16: 114289
B17: 地方特例交付金等 | R17: 243628 | Z17: 0.7 | AD17: 243628 | AL17: 1.4 | AP17: 特別土地保有税 | BG17: - | BO17: - | BS17: - | CD17: 公債費 | CR17: 2454262 | CZ17: 7.2 | DD17: - | DQ17: 2318664
B18: 住宅借入金等特別税額控除減収補塡特例交付金 | R18: 41801 | Z18: 0.1 | AD18: 41801 | AL18: 0.2 | AP18: 法定外普通税 | BG18: - | BO18: - | BS18: - | CD18: 諸支出金 | CR18: - | CZ18: - | DD18: - | DQ18: -
B19: 定額減税減収補塡特例交付金 | R19: 199025 | Z19: 0.6 | AD19: 199025 | AL19: 1.2 | AP19: 目的税 | BG19: 198 | BO19: 0 | BS19: - | CD19: 前年度繰上充用金 | CR19: - | CZ19: - | DD19: - | DQ19: -
B20: 新型コロナウイルス感染症対策地方税減収補塡特別交付金 | R20: 2802 | Z20: 0 | AD20: 2802 | AL20: 0 | AP20: 法定目的税 | BG20: 198 | BO20: 0 | BS20: - | CD20: 歳出合計 | CR20: 33869792 | CZ20: 100 | DD20: 6493170 | DQ20: 19529444
B21: 地方交付税 | R21: 10003143 | Z21: 28.3 | AD21: 8764780 | AL21: 51.5 | AP21: 入湯税 | BG21: 198 | BO21: 0 | BS21: -
B22: 普通交付税 | R22: 8764780 | Z22: 24.8 | AD22: 8764780 | AL22: 51.5 | AP22: 事業所税 | BG22: - | BO22: - | BS22: - | CD22: 性質別歳出の状況（単位 千円・％）
B23: 特別交付税 | R23: 1238363 | Z23: 3.5 | AD23: - | AL23: - | AP23: 都市計画税 | BG23: - | BO23: - | BS23: - | CD23: 区分 | CR23: 決算額 | CZ23: 構成比 | DD23: 充当一般財源等 | DL23: 経常経費充当一般財源等 | DW23: 経常収支比率
B24: 震災復興特別交付税 | R24: - | Z24: - | AD24: - | AL24: - | AP24: 水利地益税等 | BG24: - | BO24: - | BS24: - | CD24: 義務的経費計 | CR24: 16420515 | CZ24: 48.5 | DD24: 10431620 | DL24: 9320662 | DW24: 54.6
B25: (一般財源計) | R25: 18115765 | Z25: 51.2 | AD25: 16877402 | AL25: 99.2 | AP25: 法定外目的税 | BG25: - | BO25: - | BS25: - | CD25: 人件費 | CR25: 5312636 | CZ25: 15.7 | DD25: 5023312 | DL25: 4842249 | DW25: 28.4
B26: 交通安全対策特別交付金 | R26: 3262 | Z26: 0 | AD26: 3262 | AL26: 0 | AP26: 旧法による税 | BG26: - | BO26: - | BS26: - | CD26: うち職員給 | CR26: 3558178 | CZ26: 10.5 | DD26: 3361916 | DL26: - | DW26: -
B27: 分担金・負担金 | R27: 114821 | Z27: 0.3 | AD27: - | AL27: - | AP27: 合計 | BG27: 6061862 | BO27: 100 | BS27: 65573 | CD27: 扶助費 | CR27: 8653617 | CZ27: 25.5 | DD27: 3089644 | DL27: 2159749 | DW27: 12.7
B28: 使用料 | R28: 367984 | Z28: 1 | AD28: 49949 | AL28: 0.3 | CD28: 公債費 | CR28: 2454262 | CZ28: 7.2 | DD28: 2318664 | DL28: 2318664 | DW28: 13.6
B29: 手数料 | R29: 28283 | Z29: 0.1 | AD29: - | AL29: - | CD29: 内訳 | CF29: 元利償還金 | CR29: 2454262 | CZ29: 7.2 | DD29: 2318664 | DL29: 2318664 | DW29: 13.6
B30: 国庫支出金 | R30: 6112185 | Z30: 17.3 | AD30: - | AL30: - | AP30: 区分 | BG30: 令和6年度 | BR30: 令和5年度 | CF30: うち元金 | CR30: 2373958 | CZ30: 7 | DD30: 2248225 | DL30: 2248225 | DW30: 13.2
B31: 国有提供交付金(特別区財調交付金) | R31: - | Z31: - | AD31: - | AL31: - | AP31: 徴収率 (％) | AT31: 現年 | AX31: 合計 | BG31: 99.3 | BM31: 96.6 | BR31: 99.2 | BX31: 96.7 | CF31: うち利子 | CR31: 80304 | CZ31: 0.2 | DD31: 70439 | DL31: 70439 | DW31: 0.4
B32: 都道府県支出金 | R32: 6058355 | Z32: 17.1 | AD32: - | AL32: - | AU32: ・計 | AX32: 市町村民税 | BG32: 99.1 | BM32: 96.6 | BR32: 99 | BX32: 96.9 | CF32: 一時借入金利子 | CR32: - | CZ32: - | DD32: - | DL32: - | DW32: -
B33: 財産収入 | R33: 191298 | Z33: 0.5 | AD33: 85004 | AL33: 0.5 | AX33: 純固定資産税 | BG33: 99.4 | BM33: 96.2 | BR33: 99.3 | BX33: 96.3 | CD33: その他の経費 | CR33: 10553311 | CZ33: 31.2 | DD33: 8205879 | DL33: 5417167 | DW33: 31.8
B34: 寄附金 | R34: 597321 | Z34: 1.7 | AD34: - | AL34: - | CD34: 物件費 | CR34: 2747830 | CZ34: 8.1 | DD34: 1956268 | DL34: 1656137 | DW34: 9.7
B35: 繰入金 | R35: 684323 | Z35: 1.9 | AD35: - | AL35: - | AQ35: 公営事業等への繰出 | BG35: 国民健康保険事業会計の状況 | CD35: 維持補修費 | CR35: 245731 | CZ35: 0.7 | DD35: 166278 | DL35: 166182 | DW35: 1
B36: 繰越金 | R36: 1417699 | Z36: 4 | AD36: - | AL36: - | AQ36: 合計 | AZ36: 4167760 | BG36: 実質収支 | BV36: 83210 | CD36: 補助費等 | CR36: 3361026 | CZ36: 9.9 | DD36: 2757185 | DL36: 1497901 | DW36: 8.8
B37: 諸収入 | R37: 368022 | Z37: 1 | AD37: 2159 | AL37: 0 | AQ37: 下水道 | AZ37: 882832 | BG37: 再差引収支 | BV37: -28939 | CD37: うち一部事務組合負担金 | CR37: 513325 | CZ37: 1.5 | DD37: 513325 | DL37: 222087 | DW37: 1.3
B38: 地方債 | R38: 1349200 | Z38: 3.8 | AD38: - | AL38: - | AQ38: 病院 | AZ38: 566585 | BG38: 加入世帯数(世帯) | BV38: 7370 | CD38: 繰出金 | CR38: 2684837 | CZ38: 7.9 | DD38: 2129028 | DL38: 2010235 | DW38: 11.8
B39: うち減収補塡債(特例分) | R39: - | Z39: - | AD39: - | AL39: - | AQ39: 簡易水道 | AZ39: 30680 | BG39: 被保険者数(人) | BV39: 10994 | CD39: 積立金 | CR39: 1427175 | CZ39: 4.2 | DD39: 1110408 | DL39: - | DW39: -
B40: うち臨時財政対策債 | R40: 40000 | Z40: 0.1 | AD40: - | AL40: - | AQ40: 上水道 | AZ40: 2826 | BG40: 被保険者 1人当り | BM40: 保険税(料)収入額 | BV40: 87 | CD40: 投資・出資金・貸付金 | CR40: 86712 | CZ40: 0.3 | DD40: 86712 | DL40: 86712 | DW40: 0.5
...

Sheet 各会計、関係団体の財政状況及び健全化判断比率
A2: (2)各会計、関係団体の財政状況及び健全化判断比率（市町村） | DJ2: 令和6年度 | DQ2: 鹿児島県出水市
A4: 一般会計等の財政状況（単位：百万円） | BQ4: 地方公社・第三セクター等の経営状況及び地方公共団体の財政的支援の状況（単位：百万円）
A5: 会計名 | Q5: 歳入 | V5: 歳出 | AA5: 形式収支 | AF5: 実質収支 | AK5: 他会計等 からの 繰入金 | AP5: 地方債 現在高 | AU5: 備考 | BQ5: 地方公社・第三セクター等名 | CH5: 経常損益 | CM5: 純資産又は 正味財産 | CR5: 当該団体 からの 出資金 | CW5: 当該団体 からの 補助金 | DB5: 当該団体 からの 貸付金 | DG5: 当該団体からの債務保証に係る債務残高 | DL5: 当該団体からの損失補償に係る債務残高 | DQ5: 一般会計等 負担見込額 | DV5: 備考
A7: 1 | B7: 一般会計 | Q7: 35469 | V7: 33930 | AA7: 1539 | AF7: 1122 | AK7: 684 | AP7: 20380 | BQ7: 1 | BS7: 株式会社いずみみらい | CH7: 44 | CM7: 60 | CR7: 5 | CW7: - | DB7: - | DG7: - | DL7: - | DQ7: -
A8: 2 | BQ8: 2
A9: 3 | BQ9: 3
A10: 4 | BQ10: 4
A11: 5 | BQ11: 5
A12: 6 | BQ12: 6
A13: 7 | BQ13: 7
A14: 8 | BQ14: 8
A15: 9 | BQ15: 9
A16: 10 | BQ16: 10
A17: 11 | BQ17: 11
A18: 12 | BQ18: 12
A19: 13 | BQ19: 13
... A21: 15 | BQ21: 15
A22: 16 | AZ22: 実質赤字額 | BQ22: 16
A23: 計 | B23: 一般会計等（純計） | Q23: 35409 | V23: 33870 | AA23: 1539 | AF23: 1122 | AP23: 20380 | AZ23: - | BQ23: 17
A24: ※一般会計等（純計）は、各会計の相互間の繰入・繰出等の重複を控除したものであり、各会計の合計と一致しない場合がある。 | BQ24: 18
A25: 公営企業会計等の財政状況（単位：百万円） | BQ25: 19
A26: 会計名 | Q26: 総収益 （歳入） | V26: 総費用 （歳出） | AA26: 純損益 （形式収支） | AF26: 資金剰余額 /不足額 （実質収支） | AK26: 他会計等 からの 繰入金 | AP26: 企業債 （地方債） 現在高 | AU26: 左のうち 一般会計等 繰入見込額 | AZ26: 資金不足 比率 | BE26: 備考 | BQ26: 20
BQ27: 21
A28: 1 | B28: 国民健康保険特別会計 | Q28: 7194 | V28: 7110 | AA28: 83 | AF28: 83 | AK28: 634 | AP28: - | AU28: - | BQ28: 22
A29: 2 | B29: 介護保険特別会計 | Q29: 6391 | V29: 6153 | AA29: 237 | AF29: 237 | AK29: 993 | AP29: - | AU29: - | BQ29: 23
A30: 3 | B30: 後期高齢者医療特別会計 | Q30: 947 | V30: 945 | AA30: 2 | AF30: 2 | AK30: 291 | AP30: - | AU30: - | BQ30: 24
A31: 4 | B31: 交通災害共済特別会計 | Q31: 6 | V31: 5 | AA31: 1 | AF31: 1 | AK31: - | AP31: - | AU31: - | BQ31: 25
A32: 5 | B32: 水道事業会計 | Q32: 798 | V32: 664 | AA32: 134 | AF32: 1294 | AK32: 34 | AP32: 3077 | AU32: 311 | AZ32: - | BE32: 法適用企業 | BQ32: 26
A33: 6 | B33: 病院事業会計 | Q33: 5299 | V33: 5701 | AA33: -402 | AF33: 1175 | AK33: 567 | AP33: 1305 | AU33: 800 | AZ33: - | BE33: 法適用企業 | BQ33: 27
A34: 7 | B34: 下水道事業会計（公共下水道事業） | Q34: 1006 | V34: 940 | AA34: 66 | AF34: 142 | AK34: 529 | AP34: 4396 | AU34: 2739 | AZ34: - | BE34: 法適用企業 | BQ34: 28
A35: 8 | B35: 下水道事業会計（特定環境保全公共下水道事業） | Q35: 386 | V35: 353 | AA35: 33 | AF35: 60 | AK35: 199 | AP35: 3406 | AU35: 3035 | AZ35: - | BE35: 法適用企業 | BQ35: 29
A36: 9 | B36: 下水道事業会計（農業集落排水事業） | Q36: 182 | V36: 194 | AA36: -12 | AF36: 48 | AK36: 155 | AP36: 935 | AU36: 831 | AZ36: - | BE36: 法適用企業 | BQ36: 30
A37: 10 | B37: 地方卸売市場特別会計 | Q37: 7 | V37: 7 | AA37: 0 | AF37: 0 | AK37: - | AP37: - | AU37: - | AZ37: - | BE37: 法非適用企業 | BQ37: 31
A38: 11 | BQ38: 32
A39: 12 | BQ39: 33
A40: 13 | BQ40: 34
A41: 14 | BQ41: 35
A42: 15 | BQ42: 36
A43: 16 | BQ43: 37
A44: 17 | BQ44: 38
...

Sheet 財政比較分析表

Sheet 経常経費分析表（経常収支比率の分析）

Sheet 経常経費分析表（人件費・公債費・普通建設事業費の分析）
A5: 人件費及び人件費に準ずる費用の分析
AK6: 人件費及び人件費に準ずる費用
AO7: 当該団体決算額 （千円） | AQ7: 人口1人当たり決算額
AP8: 当該団体（円） | AQ8: 類似団体平均（円） | AR8: 対比（％）
AK9: 人件費 | AO9: 5312636 | AP9: 103349 | AQ9: 95899 | AR9: 7.8
AK10: 一部事務組合負担金（補助費等） | AO10: 79544 | AP10: 1547 | AQ10: 7418 | AR10: -79.1
AK11: 公営企業（法適）等に対する繰出し（補助費等） | AO11: - | AP11: - | AQ11: 1842 | AR11: -
AK12: 公営企業（法適）等に対する繰出し（投資及び出資金・貸付金） | AO12: - | AP12: - | AQ12: 18 | AR12: -
AK13: 公営企業（法非適）等に対する繰出し（繰出金） | AO13: 218211 | AP13: 4245 | AQ13: 3674 | AR13: 15.5
AK14: 事業費支弁に係る職員の人件費（投資的経費） | AO14: 338426 | AP14: 6584 | AQ14: 2040 | AR14: 222.7
AK15: ▲退職金 | AO15: -321098 | AP15: -6246 | AQ15: -5724 | AR15: 9.1
AK16: 合計 | AO16: 5627719 | AP16: 109478 | AQ16: 105167 | AR16: 4.1
AK19: 参考
AO20: 当該団体 | AP20: 類似団体平均 | AQ20: 対比（差引）
AK21: 人口1,000人当たり職員数（人） | AO21: 10.82 | AP21: 8.91 | AQ21: 1.91
AK22: ラスパイレス指数 | AO22: 97.7 | AP22: 97.6 | AQ22: 0.1
A26: （注）人口については、各調査対象年度の1月1日現在の住民基本台帳に登載されている人口に基づいている。
A28: 公債費及び公債費に準ずる費用の分析
AK29: 公債費及び公債費に準ずる費用（実質公債費比率の構成要素）
AO30: 当該団体決算額 （千円） | AQ30: 人口1人当たり決算額
AP31: 当該団体（円） | AQ31: 類似団体平均（円） | AR31: 対比（％）
AK32: 元利償還金の額 （繰上償還額等を除く） | AO32: 2454262 | AP32: 47744 | AQ32: 63956 | AR32: -25.3
AK33: 積立不足額を考慮して算定した額 | AO33: - | AP33: - | AQ33: - | AR33: -
AK34: 満期一括償還地方債の一年当たりの元金償還金に相当するもの （年度割相当額） | AO34: - | AP34: - | AQ34: 4 | AR34: -
AK35: 公営企業に要する経費の財源とする地方債の償還の財源に 充てたと認められる繰入金 | AO35: 854892 | AP35: 16631 | AQ35: 14498 | AR35: 14.7
AK36: 一部事務組合等の起こした地方債に充てたと認められる 補助金又は負担金 | AO36: 152 | AP36: 3 | AQ36: 1993 | AR36: -99.8
AK37: 公債費に準ずる債務負担行為に係るもの | AO37: 23910 | AP37: 465 | AQ37: 407 | AR37: 14.3
AK38: 一時借入金利子 （同一団体における会計間の現金運用に係る利子は除く） | AO38: - | AP38: - | AQ38: 1 | AR38: -
AK39: ▲特定財源の額 | AO39: -167870 | AP39: -3266 | AQ39: -3355 | AR39: -2.7
AK40: ▲地方債に係る元利償還金及び準元利償還金に要する経費として 普通交付税の額の算定に用いる基準財政需要額に算入された額 | AO40: -2298786 | AP40: -44719 | AQ40: -53996 | AR40: -17.2
AK41: 合計 | AO41: 866560 | AP41: 16858 | AQ41: 23508 | AR41: -28.3
A47: （参考） 普通建設事業費の分析
AK48: 普通建設事業費
AM49: 当該団体決算額 （千円） | AN49: 人口１人当たり決算額
AN50: 当該団体(円) | AO50: 増減率(%)(A) | AP50: 類似団体平均(円) | AQ50: 増減率(%)(B) | AR50: (A)-(B)
AK51: R02 | AM51: 5257651 | AN51: 99020 | AO51: 17 | AP51: 70329 | AQ51: 0.2 | AR51: 16.8
AL52: うち単独分 | AM52: 2978346 | AN52: 56093 | AO52: 46.4 | AP52: 39403 | AQ52: 9.1 | AR52: 37.3
AK53: R03 | AM53: 3999889 | AN53: 75977 | AO53: -23.3 | AP53: 71871 | AQ53: 2.2 | AR53: -25.5
AL54: うち単独分 | AM54: 2493597 | AN54: 47365 | AO54: -15.6 | AP54: 38232 | AQ54: -3 | AR54: -12.6
AK55: R04 | AM55: 3337840 | AN55: 63954 | AO55: -15.8 | AP55: 71807 | AQ55: -0.1 | AR55: -15.7
...

Sheet 性質別歳出決算分析表（住民一人当たりのコスト）

Sheet 性質別歳出決算分析表（住民一人当たりのコスト） (2)

Sheet 目的別歳出決算分析表（住民一人当たりのコスト）

Sheet 実質収支比率等に係る経年分析
J45: 標準財政規模比（％）
B46: 区分 | E46: 年度 | F46: R02 | G46: R03 | H46: R04 | I46: R05 | J46: R06
C47: 財政調整基金残高 | F47: 49 | G47: 47.23 | H47: 46.91 | I47: 48.91 | J47: 47.61
C48: 実質収支額 | F48: 4.99 | G48: 8.23 | H48: 8.86 | I48: 7.61 | J48: 6.64
C49: 実質単年度収支 | F49: ▲ 1.96 | G49: 3.43 | H49: ▲ 0.75 | I49: 1.17 | J49: ▲ 0.71

Sheet 連結実質赤字比率に係る赤字・黒字の構成分析
J32: 標準財政規模比（％）
B33: 会計 | E33: 年度 | F33: R02 | G33: R03 | H33: R04 | I33: R05 | J33: R06
C34: 水道事業会計 | F34: 6.7 | G34: 6.81 | H34: 7.12 | I34: 7.25 | J34: 7.66
C35: 病院事業会計 | F35: 6.25 | G35: 10.38 | H35: 15.07 | I35: 9.33 | J35: 6.95
C36: 一般会計 | F36: 4.99 | G36: 8.22 | H36: 8.85 | I36: 7.6 | J36: 6.64
C37: 介護保険特別会計 | F37: 0.74 | G37: 1.15 | H37: 1.43 | I37: 1.45 | J37: 1.4
C38: 下水道事業会計（公共下水道事業） | F38: 0.92 | G38: 0.87 | H38: 0.81 | I38: 0.88 | J38: 0.83
C39: 国民健康保険特別会計 | F39: 0.05 | G39: 1.04 | H39: 0.82 | I39: 0.77 | J39: 0.49
C40: 下水道事業会計（特定環境保全公共下水道事業） | F40: 0.37 | G40: 0.45 | H40: 0.44 | I40: 0.51 | J40: 0.35
C41: 下水道事業会計（農業集落排水事業） | F41: 0.24 | G41: 0.14 | H41: 0.11 | I41: 0.2 | J41: 0.28
C42: その他会計（赤字） | F42: - | G42: - | H42: - | I42: - | J42: -
C43: その他会計（黒字） | F43: 0.08 | G43: 0.07 | H43: 0.03 | I43: 0.01 | J43: 0.02

Sheet 実質公債費比率（分子）の構造
O43: （百万円）
B44: 分子の構造 | J44: 年度 | K44: R02 | L44: R03 | M44: R04 | N44: R05 | O44: R06
B45: 元利償還金等(A) | E45: 元利償還金 | K45: 2575 | L45: 2688 | M45: 2665 | N45: 2615 | O45: 2454
E46: 減債基金積立不足算定額※2 | K46: - | L46: - | M46: - | N46: - | O46: -
E47: 満期一括償還地方債に係る年度割相当額 | K47: - | L47: - | M47: - | N47: - | O47: -
E48: 公営企業債の元利償還金に対する繰入金 | K48: 1045 | L48: 1045 | M48: 1048 | N48: 985 | O48: 855
E49: 組合等が起こした地方債の元利償還金に対する負担金等 | K49: 41 | L49: 37 | M49: 30 | N49: 0 | O49: 0
E50: 債務負担行為に基づく支出額 | K50: 38 | L50: 29 | M50: 24 | N50: 23 | O50: 24
E51: 一時借入金の利子 | K51: - | L51: - | M51: - | N51: - | O51: -
B52: 算入公債費等(B) | E52: 算入公債費等 | K52: 2663 | L52: 2723 | M52: 2718 | N52: 2574 | O52: 2467
B53: (A)－(B) | E53: 実質公債費比率の分子 | K53: 1036 | L53: 1076 | M53: 1049 | N53: 1049 | O53: 866
B54: ※ 減債基金積立不足算定額=(C)×(１－(D)/(E))
B56: （参考） | O56: （百万円）
J57: 年度 | K57: R02 | L57: R03 | M57: R04 | N57: R05 | O57: R06
B58: 減債基金 積立状況等（注） | D58: 満期一括償還地方債に係る実質償還額又は理論償還額のいずれか少ない額(C)
D59: 前年度末減債基金残高(D)
D60: 前年度末減債基金積立相当額(E)
D61: （注）減債基金のうち、実質公債費比率の算定に用いる満期一括償還地方債の償還の財源に係るもののみを記入。
D62: 減債基金積立金の年度を超えた一般会計又は特別会計への貸付額は控除して記入。

Sheet 将来負担比率（分子）の構造
M39: （百万円）
B40: 分子の構造 | H40: 年度 | I40: R02 | J40: R03 | K40: R04 | L40: R05 | M40: R06
B41: 将来負担額(A) | E41: 一般会計等に係る地方債の現在高 | I41: 24704 | J41: 23897 | K41: 22614 | L41: 21404 | M41: 20380
E42: 債務負担行為に基づく支出予定額 | I42: - | J42: - | K42: - | L42: - | M42: -
E43: 公営企業債等繰入見込額 | I43: 10987 | J43: 9976 | K43: 9131 | L43: 8468 | M43: 7715
E44: 組合等負担等見込額 | I44: 95 | J44: 44 | K44: 1 | L44: 26 | M44: 92
E45: 退職手当負担見込額 | I45: 4814 | J45: 4656 | K45: 4505 | L45: 4433 | M45: 4556
E46: 設立法人等の負債額等負担見込額 | I46: - | J46: - | K46: - | L46: - | M46: -
E47: うち、健全化法施行規則附則第三条に係る負担見込額 | I47: - | J47: - | K47: - | L47: - | M47: -
E48: 連結実質赤字額 | I48: - | J48: - | K48: - | L48: - | M48: -
E49: 組合等連結実質赤字額負担見込額 | I49: - | J49: - | K49: - | L49: - | M49: -
B50: 充当可能財源等(B) | E50: 充当可能基金 | I50: 15367 | J50: 15849 | K50: 16353 | L50: 17672 | M50: 18644
E51: 充当可能特定歳入 | I51: 1278 | J51: 1186 | K51: 1143 | L51: 1075 | M51: 990
E52: 基準財政需要額算入見込額 | I52: 26584 | J52: 25686 | K52: 24256 | L52: 22788 | M52: 21506
B53: (A)－(B) | E53: 将来負担比率の分子 | I53: -2628 | J53: -4148 | K53: -5500 | L53: -7205 | M53: -8398

Sheet 基金残高に係る経年分析
H53: （百万円）
B54: 区分 | E54: 年度 | F54: R04 | G54: R05 | H54: R06
C55: 財政調整基金 | F55: 7648 | G55: 8034 | H55: 8041
C56: 減債基金 | F56: 2973 | G56: 3038 | H56: 3273
C57: その他特定目的基金 | F57: 6622 | G57: 7313 | H57: 7818
C58: 公共施設整備事業基金 | F58: 1893 | G58: 2424 | H58: 2705
C59: 出水市振興基金 | F59: 2572 | G59: 2556 | H59: 2537
C60: 職員退職手当準備基金 | F60: 741 | G60: 741 | H60: 742
C61: ツルと歴史のまち応援基金 | F61: 430 | G61: 554 | H61: 699
C62: 地域福祉基金 | F62: 600 | G62: 600 | H62: 600
C63: 基金残高合計 | F63: 17243 | G63: 18384 | H63: 19133

Sheet 公会計指標分析・財政指標組合せ分析表
B41: 将来負担比率及び有形固定資産減価償却率の組合せによる分析
AN42: 分析欄
AN43: 充当可能財源が将来負担額を上回ったため、将来負担比率は算出されていない。一方で、有形固定資産減価償却率は類似団体よりも高い傾向にあるが、これは、建築後３０年以上経過している施設の割合は令和５年度時点で６５．０％（出水市公共施設等総合管理計画）となっていることから、全体的に施設の老朽化が進んでいることが要因であると考えられる。公共施設等総合管理計画に基づき、今後、老朽化対策に取り組んでいく。
AN49: ( 参考 ）
BP50: R02 | BX50: R03 | CF50: R04 | CN50: R05 | CV50: R06
AN51: 当該団体値 | BB51: 将来負担比率
BB53: 有形固定資産減価償却率 | BP53: 64.4 | BX53: 65.2 | CF53: 66.6 | CN53: 67.5 | CV53: 67.3
AN55: 類似団体内平均値 | BB55: 将来負担比率 | BP55: 27.8 | BX55: 19 | CF55: 4 | CN55: 0.4 | CV55: 9.8
BB57: 有形固定資産減価償却率 | BP57: 62 | BX57: 61.7 | CF57: 63 | CN57: 64.3 | CV57: 65.2
B63: 将来負担比率及び実質公債費比率の組合せによる分析
AN64: 分析欄
AN65: 充当可能財源が将来負担額を上回ったため、将来負担比率は算出されていない。実質公債費比率は減少傾向が続いており類似団体と比較しても低い水準である。令和６年度は前年度と比較して、分母を構成する標準財政規模は増加し、また、既発債の償還完了等により分子の公債費相当額も減少したことから、０．５ポイントの改善となった。今後の投資事業についても、事業費の精査や計画的な事業実施に努め、引き続き交付税措置率の高い起債の活用や基金の繰入等も検討し、起債額を抑制するよう努める。
AN71: ( 参考 ）
BP72: R02 | BX72: R03 | CF72: R04 | CN72: R05 | CV72: R06
AN73: 当該団体値 | BB73: 将来負担比率
BB75: 実質公債費比率 | BP75: 7.9 | BX75: 7.7 | CF75: 7.6 | CN75: 7.5 | CV75: 7
AN77: 類似団体内平均値 | BB77: 将来負担比率 | BP77: 27.8 | BX77: 19 | CF77: 4 | CN77: 0.4 | CV77: 9.8
BB79: 実質公債費比率 | BP79: 7.5 | BX79: 8 | CF79: 8 | CN79: 8.3 | CV79: 8.6

Sheet 施設類型別ストック情報分析表①

Sheet 施設類型別ストック情報分析表②
