Workbook
Name 祝日: リスト!$H$3:$H$600

Sheet 入力用
A1: 【入力用】 | B1: ☆工事関係書類一覧表【鹿児島県農政部版】（令和8年10月） | F1: 事業名 | G1: 地区名 | H1: 工区名 | I1: 総括監督員 | J1: 監督員 | K1: 発注者
A2: 項 目 | B2: 内 容 | F2: ■■事業 | G2: ●●地区 | H2: ▲-▲工区
A3: 事業名 | B3: ■■事業 | D3: ←選択 | F3: 経営体育成基盤整備事業(経営体育成型) | G3: 鹿児島地区 | H3: 繰7-1工区 | I3: ○○ ○○ | J3: △△ △△ | K3: 鹿児島地域振興局長
A4: 地区名 | B4: ●●地区 | D4: ←選択 | F4: 経営体育成基盤整備事業(中山間地域型) | G4: 熊毛地区 | H4: 繰7-2工区 | K4: 南薩地域振興局長
A5: 工区名 | B5: ▲-▲工区 | D5: ←選択 | F5: 農業基盤整備促進事業 | G5: 奄美地区 | H5: 繰7-3工区 | K5: 北薩地域振興局長
A6: 工事名 | B6: =B3&" "&B4&" "&B5 -> ■■事業 ●●地区 ▲-▲工区 | D6: さわらない | F6: 農地中間管理機構関連農地整備事業 | H6: 繰7-4工区 | K6: 姶良･伊佐地域振興局長
A7: 工事場所 | D7: ←入力 | F7: 水利施設整備事業（基幹水利施設保全型） | H7: 繰7-5工区 | K7: 大隅地域振興局長
A8: 契約日 | B8: 46113 | C8: =TEXT(B8,"ggge年m月d日") -> 令和8年4月1日 | D8: ←入力 | F8: 団体営水利施設整備事業（基幹水利施設保全型） | H8: 8-1工区 | K8: 熊毛支庁長
A9: 工期 自 | B9: 46114 | C9: =TEXT(B9,"ggge年m月d日") -> 令和8年4月2日 | D9: ←入力 | F9: 水利施設整備事業（洪水調節機能強化型） | H9: 8-2工区 | K9: 大島支庁長
A10: 工期 至 | B10: 46477 | C10: =TEXT(B10,"ggge年m月d日") -> 令和9年3月31日 | D10: ←入力 | F10: 農業水利施設保全合理化事業 | H10: 8-3工区
A11: 日数 | B11: =C10-C9+1 -> 364 | D11: さわらない | F11: 農業水利施設保全合理化事業（団体営） | H11: 8-4工区
B12: =""&C9&"～"&C10&"" -> 令和8年4月2日～令和9年3月31日 | D12: さわらない | F12: 畑地帯総合整備事業（担い手育成型） | H12: 8-5工区
A13: 当初工期末 | F13: 畑地帯総合整備事業（担い手支援型）
F14: 水利施設等保全高度化事業(高収益作物導入促進型)
A15: 発注者 | D15: ←選択 | F15: 農地整備事業（通作・畑網）
A16: 氏名 | B16: □□ □□ | D16: ←入力 | F16: 農地整備事業（通作・樹園地）
A17: 請負者住所 | D17: ←入力 | F17: 農地整備事業（通作・保全）
A18: 総括監督員 | B18: ○○ ○○ | D18: ←選択 | F18: 地域資源利活用施設整備事業
A19: 監督員 | B19: △△ △△ | D19: ←選択 | F19: 農村地域防災減災事業（防災ダム）
A20: 請負業者（受注者） | D20: ←入力 | F20: 農村地域防災減災事業（ため池）
A21: 請負者（受注者） | D21: ←入力 | F21: 農村地域防災減災事業（用排水）
A22: 代表 | D22: ←入力 | F22: 農村地域防災減災事業（湛水防除）
A23: 主任技術者 | D23: ←入力 | F23: 団体営農村地域防災減災事業（土砂崩壊）
A24: 現場代理人 | D24: ←入力 | F24: 農村地域防災減災事業（農村災害）
F25: 農村地域防災減災事業（シラス）
B26: ﾄﾞﾛｯﾌﾟﾀﾞｳﾝﾘｽﾄから選択（該当ｾﾙをｸﾘｯｸ→右端の▼をｸﾘｯｸ･ｽｸﾛｰﾙ） | F26: 団体営農村地域防災減災事業（シラス）
B27: 手入力 | F27: 農村地域防災減災事業（河川応急）
F28: 県営中山間地域農業農村総合整備事業
A29: 【補足】 | B29: ・事業名は、令和８年度予算で執行する場合の「設計書・契約事業名」です。 | F29: 県営海岸保全施設整備(老朽化)事業
B30: ・右表の各項目（F列～K列）は適宜編集可能です。 | F30: 基幹水利施設管理事業（一般型）
F31: 水利施設管理強化事業（一般型）
F32: 経営体育成基盤整備事業
F33: 農地整備事業(通作・基幹)
F34: 水利施設整備事業（地域農業水利施設保全型）
F35: 地域用水環境整備事業
F36: 団体営地域用水環境整備事業
F37: 農地防災事業（シラス）
F38: 農地防災事業（用排水）
F39: 農地防災事業（農村災害）
F40: 県営農村振興総合整備事業
...

Sheet 一覧表
A1: 工事関係書類一覧表【鹿児島県農政部版】（令和８年10月）
A2: 工事関係書類 | F2: 様式※ | G2: 国交省 統一様式 | H2: 受注者書類作成の位置付け | M2: 備 考
A3: 作成 時期 | B3: 種別 | C3: No. | D3: 書類名称 | E3: 書類作成の根拠 | H3: 提出 | J3: 提示 | K3: その他
H4: 監督 職員 | I4: 契約 担当 | J4: 受注者 保管 | K4: 監督職員へ 連絡 | L4: 監督職員へ 納品
A5: 工事着手前 | B5: 契約関係書類 | C5: 1 | D5: 現場代理人等通知書 | E5: 契第10条1項 | G5: =HYPERLINK(CONCATENATE("[",MID(CELL("filename"),FIND("[",CELL("filename"))+1,FIND("]",CELL("filename"))-FIND("[",CELL("filename"))-1),"]","'",C5,"'","!A1"),"○") -> ○ | I5: ○
C6: 2 | D6: 現場代理人等変更通知書 | E6: 契第10条1項 | G6: =HYPERLINK(CONCATENATE("[",MID(CELL("filename"),FIND("[",CELL("filename"))+1,FIND("]",CELL("filename"))-FIND("[",CELL("filename"))-1),"]","'",C6,"'","!A1"),"○") -> ○ | I6: ○
C7: 3 | D7: 現場代理人の兼任（変更）申請書 | E7: 共③1-1-14 | F7: =HYPERLINK(CONCATENATE("[",MID(CELL("filename"),FIND("[",CELL("filename"))+1,FIND("]",CELL("filename"))-FIND("[",CELL("filename"))-1),"]","'",C7,"'","!A1"),"□") -> □ | I7: ○
C8: 4 | D8: 工事開始日通知書 | E8: 共③1-1-4 | F8: =HYPERLINK(CONCATENATE("[",MID(CELL("filename"),FIND("[",CELL("filename"))+1,FIND("]",CELL("filename"))-FIND("[",CELL("filename"))-1),"]","'",C8,"'","!A1"),"□") -> □ | I8: ○ | M8: 受注者は、計画書案の提出期限内に通知する。
C9: 5 | D9: 請負代金内訳書 | E9: 契第3条2項 | F9: =HYPERLINK(CONCATENATE("[",MID(CELL("filename"),FIND("[",CELL("filename"))+1,FIND("]",CELL("filename"))-FIND("[",CELL("filename"))-1),"]","'",C9,"-1'","!A1"),"□") -> □ | G9: =HYPERLINK(CONCATENATE("[",MID(CELL("filename"),FIND("[",CELL("filename"))+1,FIND("]",CELL("filename"))-FIND("[",CELL("filename"))-1),"]","'",C9,"-2'","!A1"),"○") -> ○ | I9: ○ | M9: 請負代金額が1億円以上でかつ工期が6ヶ月を越える工事
C10: 6 | D10: 工程表（変更工程表） | E10: 契第3条1項 共①1-1-4 | G10: =HYPERLINK(CONCATENATE("[",MID(CELL("filename"),FIND("[",CELL("filename"))+1,FIND("]",CELL("filename"))-FIND("[",CELL("filename"))-1),"]","'",C10,"'","!A1"),"○") -> ○ | I10: ○ | M10: 契約締結後７日以内
C11: 7 | D11: 建設業退職金共済制度の掛金収納書 | E11: 共①1-1-52 | G11: =HYPERLINK(CONCATENATE("[",MID(CELL("filename"),FIND("[",CELL("filename"))+1,FIND("]",CELL("filename"))-FIND("[",CELL("filename"))-1),"]","'",C11,"'","!A1"),"○") -> ○ | I11: ○ | M11: 建設業退職金共済制度に該当する場合。
C12: 8 | D12: 建退共証紙受払簿 | E12: 建設業退職金共済制度の普及徹底について(H11.3.18付建設省厚経労発第24号) | F12: - | J12: ○ | M12: 共済証紙の購入状況を把握するため、共済証紙の受払簿その他関係資料について提出を求めることがある。
C13: 9 | D13: 法定外の労災保険の付保 | E13: 共①1-1-52 | F13: - | J13: ○ | M13: 監督職員から請求があった場合は証券の写しを提出する。
C14: 10 | D14: 請求書(前払金) | E14: 契第35条1項 | G14: =HYPERLINK(CONCATENATE("[",MID(CELL("filename"),FIND("[",CELL("filename"))+1,FIND("]",CELL("filename"))-FIND("[",CELL("filename"))-1),"]","'",C14,"'","!A1"),"○") -> ○ | I14: ○ | M14: 共通様式（前払金、中間前払金、部分払金、指定部分完済払金、完成代金）
B15: その他 | C15: 11 | D15: コリンズ登録内容確認書 | E15: 共①1-1-8 | F15: - | J15: ○ | M15: 工事請負代金500万円以上 受注・変更・完成・訂正時にJACICから監督職員へメール送信される。
C16: 12 | D16: 品質証明員通知書 | E16: 共③1-1-9 特別仕様書 | G16: =HYPERLINK(CONCATENATE("[",MID(CELL("filename"),FIND("[",CELL("filename"))+1,FIND("]",CELL("filename"))-FIND("[",CELL("filename"))-1),"]","'",C16,"'","!A1"),"○") -> ○ | H16: ○ | M16: 原則、農政部が発注する予定価格１億円以上の工事及び特別仕様書に品質証明の対象工事と明記された工事（ダム、ため池、橋梁、河川工作物、ファームポンド、用排水機場等の重要構造物）
C17: 13 | D17: 再生資源利用計画書 -建設資材搬入工事用- | E17: 共①1-1-23 鹿児島県における再生資源活用工事実施要領(農政部) | F17: - | H17: ○ | M17: コブリス・プラス等により作成し、施工計画書へ含めて提出し，工事現場に掲示する。
C18: 14 | D18: 再生資源利用促進計画書 －建設副産物搬出工事用－ | E18: 共①1-1-23 鹿児島県における再生資源活用工事実施要領(農政部) | F18: - | H18: ○ | M18: コブリス・プラス等により作成し、施工計画書へ含めて提出し、工事現場に掲示する。
C19: 15 | D19: 下請工事における管内建設業者等不活用状況報告書 | E19: 共③1-1-6 | F19: =HYPERLINK(CONCATENATE("[",MID(CELL("filename"),FIND("[",CELL("filename"))+1,FIND("]",CELL("filename"))-FIND("[",CELL("filename"))-1),"]","'",C19,"'","!A1"),"□") -> □ | H19: ○ | M19: 該当する場合、監督職員に提出する。
C20: 16 | D20: 県産資材等不使用状況報告書 | E20: 共③1-1-7 | F20: =HYPERLINK(CONCATENATE("[",MID(CELL("filename"),FIND("[",CELL("filename"))+1,FIND("]",CELL("filename"))-FIND("[",CELL("filename"))-1),"]","'",C20,"'","!A1"),"□") -> □ | H20: ○ | M20: 該当する場合、監督職員に提出する。
B21: 工事書類 | C21: 17 | D21: 施工計画書 | E21: 共①1-1-6 | F21: - | H21: ○
C22: 18 | D22: ＩＣＴ活用工事計画書 | E22: 共③1-1-15 | F22: =HYPERLINK(CONCATENATE("[",MID(CELL("filename"),FIND("[",CELL("filename"))+1,FIND("]",CELL("filename"))-FIND("[",CELL("filename"))-1),"]","'",C22,"'","!A1"),"□") -> □ | H22: ○ | M22: ＩＣＴを活用した工事を行う希望があった場合。
C23: 19 | D23: 設計図書の照査確認資料 (契約書18条に該当する事実があった場合) | E23: 共①1-1-3 | F23: - | H23: ○ | M23: 契約書18条第1項に該当があった場合。
C24: 20 | D24: 工事測量成果表(仮ＢＭ及び多角点の設置) | E24: 共①1-1-47 | F24: - | H24: ○
C25: 21 | D25: 工事測量結果(設計図書との照合) (設計図書と差異有り) | E25: 共①1-1-47 | F25: - | H25: ○ | M25: 設計図書と差異があった場合
B26: 施工体制 | C26: 22 | D26: 施工体制台帳 | E26: 共①1-1-15 共③1-1-5 | F26: =HYPERLINK(CONCATENATE("[",MID(CELL("filename"),FIND("[",CELL("filename"))+1,FIND("]",CELL("filename"))-FIND("[",CELL("filename"))-1),"]","'",C26,"'","!A1"),"□") -> □ | H26: ○ | M26: 下請契約を締結する全ての工事で提出する。
C27: 23 | D27: 施工体系図 | E27: 共①1-1-15 共③1-1-5 | F27: =HYPERLINK(CONCATENATE("[",MID(CELL("filename"),FIND("[",CELL("filename"))+1,FIND("]",CELL("filename"))-FIND("[",CELL("filename"))-1),"]","'",C27,"'","!A1"),"□") -> □ | H27: ○ | M27: 下請契約を締結する全ての工事で提出する。
C28: 24 | D28: 再下請負通知書 | E28: 共①1-1-15 共③1-1-5 | F28: =HYPERLINK(CONCATENATE("[",MID(CELL("filename"),FIND("[",CELL("filename"))+1,FIND("]",CELL("filename"))-FIND("[",CELL("filename"))-1),"]","'",C28,"'","!A1"),"□") -> □ | H28: ○ | M28: 再下請契約を締結する全ての工事で提出する。
A29: 施工中 | B29: 施工状況 | C29: 25 | D29: 工事打合せ簿 (協議，承諾，提出，報告，通知) | G29: =HYPERLINK(CONCATENATE("[",MID(CELL("filename"),FIND("[",CELL("filename"))+1,FIND("]",CELL("filename"))-FIND("[",CELL("filename"))-1),"]","'",C29,"'","!A1"),"○") -> ○ | H29: ○
C30: 26 | D30: 関係機関協議資料 (許可後の資料) | E30: 共①1-1-45 | F30: - | H30: ○ | M30: 許可，承諾の写しを提出する。
C31: 27 | D31: 近隣協議資料 | E31: 共①1-1-45 | F31: - | J31: ○ | M31: 監督職員から請求があった場合は提出する。
C32: 28 | D32: 材料使用承認願 | E32: 共①1-1-25 共③2-2-1 特別仕様書 | F32: =HYPERLINK(CONCATENATE("[",MID(CELL("filename"),FIND("[",CELL("filename"))+1,FIND("]",CELL("filename"))-FIND("[",CELL("filename"))-1),"]","'",C32,"'","!A1"),"□") -> □ | H32: ○ | M32: 試験成績表等の資料の添付。
C33: 29 | D33: 材料品質証明書 | E33: 共①1-1-25 | F33: - | H33: ○ | M33: 設計図書で指定した材料がある場合に提出する。
C34: 30 | D34: 材料納入伝票 | F34: - | J34: ○ | M34: 設計図書で指定した材料や監督職員から請求があった場合は提出する。
C35: 31 | D35: 立会依頼書(工事打合簿) | E35: 共①1-1-26 | F35: - | H35: ○ | M35: 打合せ簿にて対応
C36: 32 | D36: 段階確認書 | E36: 共①1-1-26 特別仕様書 | F36: =HYPERLINK(CONCATENATE("[",MID(CELL("filename"),FIND("[",CELL("filename"))+1,FIND("]",CELL("filename"))-FIND("[",CELL("filename"))-1),"]","'",C36,"'","!A1"),"□") -> □ | H36: ○
C37: 33 | D37: 休日・夜間作業届 | E37: 共①1-1-46 | F37: - | H37: ○ | K37: ○
C38: 34 | D38: 安全教育・訓練等の記録 | E38: 共①1-1-36 | F38: =HYPERLINK(CONCATENATE("[",MID(CELL("filename"),FIND("[",CELL("filename"))+1,FIND("]",CELL("filename"))-FIND("[",CELL("filename"))-1),"]","'",C38,"'","!A1"),"□") -> □ | H38: ○ | J38: ○ | M38: 監督職員の請求があった場合に提示する。 完成時に実施状況写真を添付し提出する。
C39: 35 | D39: 工事事故報告書 | E39: 共①1-1-40 | F39: =HYPERLINK(CONCATENATE("[",MID(CELL("filename"),FIND("[",CELL("filename"))+1,FIND("]",CELL("filename"))-FIND("[",CELL("filename"))-1),"]","'",C39,"'","!A1"),"▲") -> ▲ | H39: ○ | K39: ○ | M39: 事故が発生した場合、直ちに連絡するとともに、事故の概要を書面により速やかに提出する。
A40: 施工中 | B40: 契約関係書類 | C40: 36 | D40: 工事履行報告書 | E40: 契第11条 共①1-1-33 | G40: =HYPERLINK(CONCATENATE("[",MID(CELL("filename"),FIND("[",CELL("filename"))+1,FIND("]",CELL("filename"))-FIND("[",CELL("filename"))-1),"]","'",C40,"'","!A1"),"○") -> ○ | H40: ○
...

Sheet 1
A1: 第４－１号様式
A6: 現 場 代 理 人 等 通 知 書
S9: 年月日：
C11: （契約担当者）
D12: =入力用!B15 -> 0
E13: =入力用!B16 -> □□ □□ | K13: 殿
P17: （請負者） | Q17: ="住所 "&入力用!B21&"" -> 住所
Q18: ="商号又は名称 "&入力用!B20&"" -> 商号又は名称
Q19: ="代表者の氏名 "&入力用!B22&"" -> 代表者の氏名
D23: =" "&入力用!C8&"" -> 令和8年4月1日 | H23: 付けをもって請負契約を締結した | P23: =入力用!B6 -> ■■事業 ●●地区 ▲-▲工区 | X23: に
D25: ついて、工事請負契約書第10条に基づき現場代理人等を下記のとおり定めたので、通知
D27: します。
A30: 記
D33: 現場代理人氏名 | I33: =入力用!B24 -> 0
D35: 主任技術者又は
D36: 監理技術者氏名 | I36: =入力用!B23 -> 0
D38: 特例監理技術者
D40: 監理技術者補佐氏名
D42: 専門技術者氏名
D45: ※技術者については、「資格者証（写し）」を添付してください。
D46: ※主任技術者、監理技術者、特例監理技術者、監理技術者補佐については、
D47: 「直接的かつ恒常的な雇用関係が確認できる書類（写し）」を添付してください。
D48: ※現場代理人については、氏名の隣に生年月日を記載してください。
D49: ※営業所の専任技術者は、現場の主任技術者又は監理技術者になることができません。（特例除く）

Sheet 2
A1: 第４－２号様式
F3: 年月日：
B6: （契約担当者）
B7: =入力用!B15 -> 0
B8: =入力用!B16 -> □□ □□ | D8: 殿
E10: （請負者） | F10: =入力用!B21 -> 0
F11: =入力用!B20 -> 0
F12: =入力用!B22 -> 0
A14: 現 場 代 理 人 等 変 更 通 知 書
A17: 工 事 名 | B17: =入力用!B6 -> ■■事業 ●●地区 ▲-▲工区
A19: 年 月 日 | C19: 付けで通知した上記工事の現場代理人及び技術者を下記
A21: のとおり変更したいので、工事請負契約書第10条にもとづき通知します。
A23: 記
A26: 現場代理人等変更年月日
A27: 変更する現場代理人等区分
A29: 旧現場代理人等氏名 | D29: 新現場代理人等氏名
A32: 変 更 事 由
A37: ※技術者については、「資格者証（写し）」を添付してください。
A38: ※主任技術者・監理技術者、特例監理技術者、監理技術者補佐については，
A39: 「直接的かつ恒常的な雇用関係が確認できる書類（写し）」を添付してください。
A40: ※現場代理人については、氏名の下に生年月日を記載してください。
A41: ※営業所の専任技術者は、現場の主任技術者等になることができません。（特例除く）
A42: (注)1． | B42: 新現場代理人等の記入内容は、様式－1に準ずる。
A44: 2． | B44: 変更する現場代理人等区分には、下記から該当する区分を記載する。
C45: ・現場代理人
C46: ・主任技術者
C47: ・監理技術者
C48: ・特例監理技術者
C49: ・監理技術者補佐
C50: ・専門技術者

Sheet 3
A1: 別紙１
F2: 令和 年 月 日
A4: 契約担当者
A5: =" "&入力用!B15&""
A6: =" "&入力用!B16&"殿" -> □□ □□殿
C8: 請負者
C9: 商号又は名称 | E9: =入力用!B20 -> 0
C10: 代表者の氏名 | E10: =入力用!B22 -> 0
A12: 現場代理人の兼任（変更）申請書
A15: 下記工事について、現場代理人を兼任したいので、（変更）申請します。
A16: なお、両工事の施工に当たっては、関係法令等を遵守し、安全管理及び工程管理に
A17: 留意します。
A18: 記
A20: ①兼任する工事 （県農政部部工事） | B20: 主任技術者 | C20: =入力用!B23 -> 0
B21: 現場代理人 | C21: =入力用!B24 -> 0
B22: 工事名 | C22: =入力用!B6 -> ■■事業 ●●地区 ▲-▲工区
B23: 工事場所 | C23: =入力用!B7 -> 0
B24: 工期 | C24: =入力用!B12 -> 令和8年4月2日～令和9年3月31日
B25: 請負金額(税込み)
B26: 現場代理人不在の 間の緊急連絡先 | C26: 氏名
C27: 連絡先
A28: ②兼任する他の工事 | B28: 主任技術者
B29: 現場代理人
B30: 工事名
B31: 工事場所
B32: 工期
B33: 請負金額(税込み)
B34: 発注機関名
B35: 監督員氏名
B36: 発注機関の連絡先
A37: ③兼任する他の工事 | B37: 主任技術者
B38: 現場代理人
B39: 工事名
B40: 工事場所
B41: 工期
B42: 請負金額(税込み)
B43: 発注機関名
B44: 監督員氏名
B45: 発注機関の連絡先
A46: 工事現場の相互の距離 | C46: ①-② | E46: ｋｍ
...

Sheet 4
G1: （別紙１）
A3: 工事開始日通知書
A4: （余裕期間適用工事）
A8: 契約担当者 | C8: 住所 | D8: =入力用!B17 -> 0
C9: 職・氏名 | D9: =""&入力用!B15&" "&入力用!B16&"様" -> □□ □□様
D11: 請負者 | E11: 住所 | F11: =入力用!B21 -> 0
E12: 称号又は名称 | F12: =入力用!B20 -> 0
E13: 代表者職・氏名 | F13: =入力用!B22 -> 0
A16: 次の工事について、工事開始日を定めましたので、通知します。
A18: 工事名 | C18: =入力用!B6 -> ■■事業 ●●地区 ▲-▲工区
A19: 工事場所 | C19: =入力用!B7 -> 0
A20: 工事開始日
A22: ※１ | B22: 本通知書は、契約書案の提出期限内（落札決定通知の翌日から起算して７日以内）に提出すること。
A23: ２ | B23: 契約書案の工期の始期日は、本通知書の工事開始日を記載すること。

Sheet 5-1
A1: 第１－２号様式（標準書式第３条関係）
R2: 年月日：
F3: 殿
L5: 住所 | M5: =入力用!B21 -> 0
L7: 氏名 | M7: =入力用!B22 -> 0
A9: 請負代金内訳書
A11: 工 事 名 | D11: =入力用!B6 -> ■■事業 ●●地区 ▲-▲工区
A12: 契約年月日 | D12: =入力用!B8 -> 46113
A13: 工 期 | D13: =入力用!B9 -> 46114 | N13: ～ | O13: =入力用!B10 -> 46477 | Y13: 迄
A15: 費 目 | D15: 工 種 | I15: 種別 | K15: 細別 | M15: 規 格 | P15: 単位 | R15: 員 数 | U15: 単価 | W15: 金 額
A34: （注）共通仮設費については、内訳として運搬費、準備費、仮設費、事業損失防止施設費、安全費、役務費、技術管理費、営繕費があり、本工事で該当する項目全てについて記入するものとする。

Sheet 5-2
R2: 年月日：
C3: （発注者） | F3: =入力用!B15 -> 0
L4: =入力用!B16 -> □□ □□ | M4: 殿
O7: （受注者） | R7: =入力用!B21 -> 0
R8: =入力用!B20 -> 0
R9: =入力用!B22 -> 0
A11: 請負代金内訳書
A13: 工 事 名 | D13: =入力用!B6 -> ■■事業 ●●地区 ▲-▲工区
A14: 契約年月日 | D14: =入力用!B8 -> 46113
A15: 工 期 | D15: =入力用!B9 -> 46114 | N15: ～ | O15: =入力用!B10 -> 46477 | Y15: 迄
A17: 費 目 | D17: 工 種 | I17: 種別 | K17: 細別 | M17: 規 格 | P17: 単位 | R17: 員 数 | U17: 単価 | W17: 金 額
A36: （工事価格のうち、現場労働者に関する健康保険、厚生年金保険及び雇用保険の法定の事業主負担額 円）

Sheet 6
A1: 第１－１号様式
A2: 工 程 表
BV3: 年月日：
D4: （発注者） | E4: =入力用!B15 -> 0
E5: =入力用!B16 -> □□ □□ | M5: 殿
A7: 工事名 | D7: =入力用!B6 -> ■■事業 ●●地区 ▲-▲工区 | AC7: 工事場所 | AF7: =入力用!B7 -> 0
A8: 工 期 | D8: 自 | E8: =入力用!B9 -> 46114 | M8: 至 | O8: =入力用!B13 -> 0 | BP8: （請負者） | BR8: =入力用!B20 -> 0
H10: 月 | J10: 4 | O10: 月 | P10: 5 | U10: 月 | V10: 6 | AA10: 月 | AB10: 7 | AG10: 月 | AH10: 8 | AM10: 月 | AN10: 9 | AS10: 月 | AT10: 10 | AY10: 月 | AZ10: 11 | BE10: 月 | BF10: 12 | BK10: 月 | BL10: 1 | BQ10: 月 | BR10: 2 | BW10: 月 | BX10: 3 | CC10: 月 | CD10: 備 考
H12: 日 | J12: 1 | L12: 11 | N12: 21 | P12: 1 | R12: 11 | T12: 21 | V12: 1 | X12: 11 | Z12: 21 | AB12: 1 | AD12: 11 | AF12: 21 | AH12: 1 | AJ12: 11 | AL12: 21 | AN12: 1 | AP12: 11 | AR12: 21 | AT12: 1 | AV12: 11 | AX12: 21 | AZ12: 1 | BB12: 11 | BD12: 21 | BF12: 1 | BH12: 11 | BJ12: 21 | BL12: 1 | BN12: 11 | BP12: 21 | BR12: 1 | BT12: 11 | BV12: 21 | BX12: 1 | BZ12: 11 | CB12: 21
B13: 工 種
A32: 記載要領 | E32: 1 工種は工事数量総括表の工種を記載する。（工種以外でも必要なものは、記載する。）
E33: 2 工程表は、工期の長短にかかわらず４月から翌年３月までの様式とする。年度をまたぐときは、2枚とする。
E34: 3 ネットワークによる場合は、この様式にこだわらずフローチャートを提出させることができる。
E35: 4 当初工程表は、黒色実線で表記する。
A36: 第１－２号様式
A37: 変 更 工 程 表
BV38: 年月日：
D39: （発注者） | E39: =入力用!B15 -> 0
E40: =入力用!B16 -> □□ □□ | M40: 殿
A42: 工事名 | D42: =入力用!B6 -> ■■事業 ●●地区 ▲-▲工区 | AC42: 工事場所 | AF42: =入力用!B7 -> 0
A43: 工 期 | D43: 自 | E43: =入力用!B9 -> 46114 | M43: 至 | BP43: （請負者） | BR43: =入力用!B20 -> 0
A44: 変更工期 | D44: 自 | E44: =入力用!B9 -> 46114 | M44: 至
H46: 月 | J46: 4 | O46: 月 | P46: 5 | U46: 月 | V46: 6 | AA46: 月 | AB46: 7 | AG46: 月 | AH46: 8 | AM46: 月 | AN46: 9 | AS46: 月 | AT46: 10 | AY46: 月 | AZ46: 11 | BE46: 月 | BF46: 12 | BK46: 月 | BL46: 1 | BQ46: 月 | BR46: 2 | BW46: 月 | BX46: 3 | CC46: 月 | CD46: 備 考
H48: 日 | J48: 1 | L48: 11 | N48: 21 | P48: 1 | R48: 11 | T48: 21 | V48: 1 | X48: 11 | Z48: 21 | AB48: 1 | AD48: 11 | AF48: 21 | AH48: 1 | AJ48: 11 | AL48: 21 | AN48: 1 | AP48: 11 | AR48: 21 | AT48: 1 | AV48: 11 | AX48: 21 | AZ48: 1 | BB48: 11 | BD48: 21 | BF48: 1 | BH48: 11 | BJ48: 21 | BL48: 1 | BN48: 11 | BP48: 21 | BR48: 1 | BT48: 11 | BV48: 21 | BX48: 1 | BZ48: 11 | CB48: 21
B49: 工 種
A68: 記載要領 | E68: 1 工種は工事数量総括表の工種を記載する。（工種以外でも必要なものは、記載する。）
E69: 2 工程表は、工期の長短にかかわらず４月から翌年３月までの様式とする。年度をまたぐときは、2枚とする。
E70: 3 ネットワークによる場合は、この様式にこだわらずフローチャートを提出させることができる。
E71: 4 変更工程表は、変更前を上段に赤色実線、変更後を下段に黒色実線で表記する。

Sheet 7
A5: 建設業退職金共済制度の掛金収納書
G9: 年月日：
B11: 契約担当者
C12: =入力用!B15 -> 0
C13: =入力用!B16 -> □□ □□ | F13: 殿
G16: （受注者） | H16: =入力用!B21 -> 0
H17: =入力用!B20 -> 0
H18: =入力用!B22 -> 0
A21: 建設業退職金共済組合証紙購入報告
B24: 下記のとおり証紙を購入したので、当該掛金収納書を添付して報告します。
B27: 工事名 | D27: =入力用!B6 -> ■■事業 ●●地区 ▲-▲工区 | G27: 工 期 | H27: =入力用!B12 -> 令和8年4月2日～令和9年3月31日
B28: 契約年月日 | D28: =入力用!B8 -> 46113 | G28: 契約金額
B29: 共済証紙購入金額 | E29: ￥
C31: 掛金収納書を貼る（契約者から発注者用）
B52: (注) | C52: 添付する掛け金収納書は中小企業主に雇われる場合は赤色、
C53: 大手事業主に雇われる場合は青色

Sheet 10
Z3: 年月日：
I6: 請求書 | N6: （ | Y6: ）
B9: 契約担当者
C10: =入力用!B15 -> 0
D11: =入力用!B16 -> □□ □□ | M11: 殿
X13: 請負者 （住所） | Y13: =入力用!B21 -> 0
X16: （氏名） | Y16: =入力用!B22 -> 0 | AH16: 印
B18: 下記のとおり請求します。
D20: 請求金額 | H20: ￥
B23: ただし、次の工事の( | W23: )として
B25: 契約金額 | H25: ￥ 円也
B27: 領収済金額 | H27: ￥ 円也
B29: 今回請求金額 | H29: ￥ 円也
B31: 未請求金額 | H31: ￥ 円也
B33: 工事名 | G33: （ | H33: =入力用!B6 -> ■■事業 ●●地区 ▲-▲工区 | AA33: ）
B35: 工事場所 | G35: （ | H35: =入力用!B7 -> 0 | AA35: ）
B37: 契約日 | G37: （ | H37: =入力用!B8 -> 46113 | AA37: ）
B39: 完成日 | G39: （ | AA39: ）
B41: 支払方法 | G41: （ | H41: 現金払・口座振替払 | T41: ）
B43: 振込希望金融機関名 | K43: （ | AH43: 店 | AI43: ）
B45: 預金の種別 | G45: （ | AA45: ）
B47: 口座番号 | G47: （ | AA47: ）
B49: 口座名義 | G49: （ | AA49: ）
B51: フリガナ | G51: （ | AA51: ）
B53: 振込指定コード番号 | K53: （ | AE53: ）
B55: 隔地払金融機関名 | K55: （ | AE55: ）
E58: (注)1． | F58: （ ）には前払金、中間前払金、部分払金、指定部分完済払金、完成代金の別を記入すること。
E60: 2． | F60: 部分払金を請求する場合は、請求内訳書（部分払の場合又は国債部分払の場合）を添付すること。
E62: 3． | F62: 指定部分完済払代金を請求する場合には、請求内訳書（指定部分払の場合）を添付すること。
E64: 4． | F64: 押印を省略する場合は、「発行責任者及び担当者」欄を設け、役職・氏名（フルネーム）及び連絡先（原則、固定電話番号）を記載すること。
F65: 【記載例】
F67: 【発行責任者及び担当者】
F68: ・責任者：○○支店長○○ ○○（連絡先×××－×××－××××）
F69: ・担当者：経理担当○○ ○○（連絡先×××－×××－××××）

Sheet 12
A3: 品 質 証 明 員 通 知 書
S6: 年月日：
D9: （発注者）
E10: =入力用!B15 -> 0
E11: =入力用!B16 -> □□ □□ | K11: 殿
N14: （受注者） | Q14: =入力用!B21 -> 0
Q15: =入力用!B20 -> 0
Q16: =入力用!B22 -> 0
D20: =" "&入力用!C9&"付けをもって請負契約を締結した"&入力用!B6&"の品質証明員を下記のとおり定めたので、資格及び経歴を添えて通知します。" -> 令和8年4月2日付けをもって請負契約を締結した■■事業 ●●地区 ▲-▲工区の品質証明員を下記のとおり定めたので、資格及び経歴を添えて通知します。
A26: 記
D29: 品質証明員氏名
D33: 生年月日 年 月 日
D37: 資格
D41: 経歴
E43: 工事名 | H43: 職名 | M43: 工期 | T43: 従事期間
F48: 計
C50: ※「資格者証（写し）」を添付する。

Sheet 15
A1: 下請工事における管内建設業者等不活用状況報告書
E3: 工 事 名： | F3: =入力用!B6 -> ■■事業 ●●地区 ▲-▲工区
E4: 請負業者名： | F4: =入力用!B20 -> 0
A6: 下請工事における管内建設業者等の不活用理由
A7: 下請階層 | B7: 建設業者名 | C7: 住所 （県・市町村名） | D7: 区分 | E7: 下請工事 概 要 | F7: 不活用理由
F8: 番号 | G8: 具体的理由
A17: 下請工事における管内建設業者等不活用状況報告書
E19: 工 事 名：
E20: 請負業者名：
A22: 下請工事における管内建設業者等の不活用理由
A23: 下請階層 | B23: 建設業者名 | C23: 住所 （県・市町村名） | D23: 区分 | E23: 下請工事 概 要 | F23: 不活用理由
F24: 番号 | G24: 具体的理由
A25: 一次 | B25: （株）○○建設 | C25: ○○○市○○町 | D25: 県内 | E25: コンクリート工 鉄筋工 型枠工 | F25: ②
A26: 二次 | B26: △△建設（株） | C26: △△△県△△市 | D26: 県外 | E26: 照明設備 | F26: ①
A27: 三次 | B27: （有）□□建設 | C27: □□□市□□町 | D27: 県内 | E27: 鉄筋工 | F27: ③
E30: （記載要領） １）管外及び県外は、当該業者の主たる営業所の所在地で判断し、 住所・区分を記載する。 ２）記載する建設業者は、H27.4.1施行の施工体制台帳作成範囲に該当 する全ての管外業者とする。 ３）工事概要は、施工体系図中の「工事の具体的内容」を記載する。 ４）理由欄は、管内業者を活用できない理由を明確に記載する。 ※理由番号：① 施工能力又は実績を有する業者が存在しない。 ② 施工時期が合致する業者が存在しない。 ③ 契約金額で合意できる業者が存在しない。 ④ その他

Sheet 16
A1: 県産資材等不使用状況報告書
F3: 工 事 名： | G3: =入力用!B6 -> ■■事業 ●●地区 ▲-▲工区
F4: 請負業者名： | G4: =入力用!B20 -> 0
A6: 指定資材における県産資材等不使用理由
A7: 材料名 | B7: 規格 | C7: 予定 数量 | D7: 単位 | E7: 製造工場名 | F7: 理由番号 | G7: 調達業者名（本店名） | H7: 県内 本支店 | I7: 不使用理由
E8: 所 在 地 | F8: 根拠資料 | G8: 支店名
A27: 県産資材等不使用状況報告書
F29: 工 事 名：
F30: 請負業者名：
A32: 指定資材における県産資材等不使用理由
A33: 材料名 | B33: 規格 | C33: 予定 数量 | D33: 単位 | E33: 製造工場名 | F33: 理由番号 | G33: 調達業者名（本店名） | H33: 県内 本支店 | I33: 不使用理由
E34: 所 在 地 | F34: 根拠資料 | G34: 支店名
A35: Ｌ形側溝 | B35: 250A | C35: 100 | D35: ｍ | E35: ○○○（株） ○○工場 | F35: ① | G35: （株）○○ | H35: ○ | I35: －
E36: ○○○県○○○市○○町○○ | F36: 証明書
A37: 蓋版 | B37: 300用 | C37: 200 | D37: 枚 | E37: △△△（株） △△工場 | F37: ④ | G37: △△△（株） | H37: × | I37: （理由を記載）
E38: △△△県△△△市△△町△△ | F38: 見積書 | G38: 鹿児島支店 | H38: ○
A39: 砕石 | B39: 40mm | C39: 1000 | D39: m3 | E39: ◎◎◎（株） ◎◎工場 | F39: ⑤ | G39: ◎◎◎（株） | H39: × | I39: （理由を記載）
E40: ◎◎◎県◎◎◎市◎◎町◎◎ | F40: 理由書 | G40: ◎◎◎営業所 | H40: ×
A43: (記載要領)
A44: １； | B44: 県産資材を使用できない理由は、次の①～⑤のいずれかの区分とし、根拠資料を添付する。
C45: ① 県産資材として製造・流通していない。（証明書）
C46: ② 県産資材では品質が確保できない。（証明書）
C47: ③ 県産資材では必要数量を確保できず、工期・納期に支障がある。（証明書）
C48: ④ 県産資材の価格が高い。（見積書）
C49: ⑤ その他（使用できない具体的な理由を記載した理由書）
A50: ２； | B50: 根拠資料は、県内の製造又は資材業者２社以上、あるいは県内の組合(協会)からの証明書又は見積書を添付する。
A51: ３； | B51: 資材業者は、調達(契約)の相手方の本店を記載し、県外の場合は支店(営業所)まで記載する。
B52: 調達先が県内本店以外の場合は、不使用理由まで記載する。

Sheet 18
G1: 別添－３
A2: ="（工事名："&入力用!B6&"）" -> （工事名：■■事業 ●●地区 ▲-▲工区）
A4: ＩＣＴ活用工事計画書
G6: ="会社名："&入力用!B20&"" -> 会社名：
A8: 当該工事において活用する技術について、「作業内容」欄の該当する工種のチェック欄に「■」と記入し、「採用技術番号」欄に該当建設生産プロセスの作業内容ごとに採用する技術番号を記載する。また、建設生産プロセスの各段階において、現場条件によりICTによる施工が適当でない箇所を除く土工施工範囲の全てで活用する場合は、左端のチェック欄に「■」と記入する。
B16: 施工プロセスの段階 | D16: 作業内容 | F16: 採用する技術番号 | G16: 技術番号・技術名
B17: □ | C17: ①３次元起工測量 | G17: ①－１．空中写真測量（無人航空機）を用いた起工測量 ①－２．地上型レーザースキャナーを用いた起工測量 ①－３．トータルステーションを用いた起工測量 ①－４．トータルステーション（ノンプリズム方式）を用いた起工測量 ①－５．ＲＴＫ－ＧＮＳＳを用いた起工測量 ①－６．無人航空機搭載型レーザースキャナーを用いた起工測量 ①－７．地上移動体搭載型レーザースキャナーを用いた起工測量 ①－８．その他の３次元計測技術を用いた起工測量 〔８．を選択した場合の技術名称： 〕
B18: □ | C18: ②３次元設計データ作成 | G18: ※３次元出来形管理に用いる３次元設計データの作成であり、ＩＣＴ建設機械にのみ用いる３次元設計データは含まない。
B19: □ | C19: ③ＩＣＴ建設機械による施工 | D19: □ | E19: 掘削工 | G19: ③－１．３次元マシンコントロール（ブルドーザ）技術 ③－２．３次元マシンコントロール（バックホウ）技術 ③－３．３次元マシンガイダンス（ブルドーザ）技術 ③－４．３次元マシンガイダンス（バックホウ）技術 ③－５．その他の３次元対応建設機械 ※採用する機種及び活用作業工種・施工範囲（別途平面図等による）については、受注後の協議により決定する。 ※当該工事に含まれる左記作業の工種のいずれかで、ＩＣＴ建設機械を活用すれば良い。
D20: □ | E20: 盛土工
D21: □ | E21: ほ場整備工
D22: □ | E22: 舗装工事
D23: □ | E23: 暗渠排水工事
D24: □
D25: □
B26: □ | C26: ④３次元出来形管理等の施工管理 | D26: □ | E26: 出来形 | G26: ④－１．空中写真測量（無人航空機）による出来形管理技術 ④－２．地上型レーザースキャナーによる出来形管理技術 ④－３．トータルステーション光波方式による出来形管理技術 ④－４．トータルステーション（ノンプリズム方式）による出来形管理技術 ④－５．ＲＴＫ－ＧＮＳＳによる出来形管理技術 ④－６．無人航空機搭載型レーザースキャナーによる出来形管理技術 ④－７．地上移動体搭載型レーザースキャナーによる出来形管理技術 ④－８．施工履歴データによる出来形管理技術 ④－９．モバイル端末を用いた出来形管理 ④－10．その他の３次元計測技術による出来形管理技術 〔９．を選択した場合の技術名称： 〕
D27: □ | E27: 品質 | G27: ④－11．ＴＳ・ＧＮＳＳによる締固め回数管理技術（土工）
B28: □ | C28: ⑤３次元データの納品
B31: 注１）ＩＣＴ活用工事の詳細については、「ＩＣＴ活用工事試行要領」及び特別仕様書によるものとする。 注２）実施する「施工プロセス」及び「作業内容」について「□」を「■」と記入する。 注３）「採用する技術番号」は「技術番号・技術名」から選択し番号を記入する。 その他を選択した場合は，採用した技術名称を記入する。 （記載例：「①－１」） 注４）①，④において，「その他の3次元計測技術」を選択した場合は，その技術名称を括弧書きで記載すること。 （記載例：「その他の3次元計測技術（○○を用いた計測法）」）

Sheet 22
AH1: 年 | AK1: 月 | AN1: 日
A2: 施工体制台帳（作成例）
AQ3: 《下請負人に関する事項》
B5: ［会社名・事業者ID］ | K5: =入力用!B20 -> 0 | AR5: 会社名・ 事業者ID | BM5: 代表者名
B7: ［事業所名・現場ID］
AR8: 住所
B9: 建設業の 許可 | H9: 許 可 業 種 | R9: 許 可 番 号 | AF9: 許可（更新）年月日
H11: 工事業 | R11: 大臣 特定 | W11: 第 号 | AF11: 年 月 日 | AR11: 工事名称 及び 工事内容
R12: 知事 一般
H13: 工事業 | R13: 大臣 特定 | W13: 第 号 | AF13: 年 月 日
R14: 知事 一般 | AR14: 工期 | AX14: 自 年 月 日 至 年 月 日 | BM14: 契約日 | BS14: 年 月 日
B16: 工事名称 及び 工事内容 | H16: =入力用!B6 -> ■■事業 ●●地区 ▲-▲工区
AR18: 建設業の 許可 | AX18: 施工に必要な許可業種 | BH18: 許 可 番 号 | BV18: 許可（更新）年月日
B19: 発注者名 及び 住所 | H19: =""&入力用!B15&" "&入力用!B16&"" -> □□ □□
AX20: 工事業 | BH20: 大臣 特定 | BM20: 第 号 | BV20: 年 月 日
H21: =入力用!B17 -> 0 | BH21: 知事 一般
B22: 工期 | I22: 自 | J22: =入力用!B9 -> 46114 | W22: 契約日 | AC22: =入力用!B8 -> 46113 | AX22: 工事業 | BH22: 大臣 特定 | BM22: 第 号 | BV22: 年 月 日
BH23: 知事 一般
I24: 至 | J24: =入力用!B10 -> 46477
AR25: 健康保険等の加入状況 | AY25: 保険加入の有無 | BD25: 健康保険 | BN25: 厚生年金保険 | BW25: 雇用保険
B26: 契約 営業所 | I26: 区分 | N26: 名 称 | AC26: 住 所
BD27: 加入 未加入 適用除外 | BN27: 加入 未加入 適用除外 | BW27: 加入 未加入 適用除外
I28: 元請契約 | N28: =入力用!B20 -> 0 | AC28: =入力用!B21 -> 0
AX29: 事業所 整理記号等 | BD29: 営業所の名称 | BK29: 健康保険 | BS29: 厚生年金保険 | BZ29: 雇用保険
I30: 下請契約
B33: 健康保険等の加入状況 | I33: 保険加入の有無 | N33: 健康保険 | X33: 厚生年金保険 | AG33: 雇用保険
AQ34: 現場代理人名 | BL34: 安全衛生責任者名
N35: 加入 未加入 適用除外 | X35: 加入 未加入 適用除外 | AG35: 加入 未加入 適用除外
AS36: 権限及び 意見申出方法 | BL36: 安全衛生推進者名
H37: 事業所 整理記号等 | N37: 区分 | R37: 営業所の名称 | Y37: 健康保険 | AE37: 厚生年金保険 | AK37: 雇用保険
AQ38: 主任技術者名 | AZ38: 専 任 非専任 | BL38: 雇用管理責任者名
N39: 元請契約
AS40: 資格内容 | BL40: 専門技術者名
N41: 下請契約
BN42: 資格内容
B44: 発注者の 監督員名 | H44: =入力用!B19 -> △△ △△ | W44: 権限及び意見申出方法 | BN44: 担当工事内容
B47: 監督員名 | W47: 権限及び意見申出方法 | AQ47: 一号特定技能外国人の従事の 状況（有無） | AY47: 有 無 | BF47: 外国人建設就労者の従事の 状況(有無) | BM47: 有 無 | BT47: 外国人技能実習生の従事の状況(有無) | BZ47: 有 無
B49: 現場 代理人名 | H49: =入力用!B24 -> 0 | W49: 権限及び意見申出方法
B51: 監理技術者名 主任技術者名 | H51: 専 任 非専任 | K51: =入力用!B23 -> 0 | W51: 資格内容
A53: 監理技術者補佐名 | W53: 資格内容
...

Sheet 23
G4: 施工体系図（作成例）
A6: 発注者名 | C6: =入力用!B15 -> 0 | H6: 工期 | J6: 自 | K6: =入力用!B9 -> 46114
A7: 工事名称 | C7: =入力用!B6 -> ■■事業 ●●地区 ▲-▲工区 | J7: 至 | K7: =入力用!B10 -> 46477
A9: 元請名・事業者ID | G9: 工事 | I9: 会社名・事業者ID | N9: 工事 | P9: 会社名・事業者ID | U9: 工事 | W9: 会社名・事業者ID | AB9: 工事 | AD9: 会社名・事業者ID
A10: 監督員名 | I10: 代表者名 | P10: 代表者名 | W10: 代表者名 | AD10: 代表者名
A11: 監理技術者名 主任技術者名 | C11: =入力用!B23 -> 0 | I11: 許可番号 | P11: 許可番号 | W11: 許可番号 | AD11: 許可番号
A12: 監理技術者補佐名 | I12: 一般 / 特定の別 | L12: 一般 / 特定 | P12: 一般 / 特定の別 | S12: 一般 / 特定 | W12: 一般 / 特定の別 | Z12: 一般 / 特定 | AD12: 一般 / 特定の別 | AG12: 一般 / 特定
A13: 専門技術者名 | I13: 安全衛生責任者 | P13: 安全衛生責任者 | W13: 安全衛生責任者 | AD13: 安全衛生責任者
B14: 担当工事内容 | I14: 主任技術者 | P14: 主任技術者 | W14: 主任技術者 | AD14: 主任技術者
A15: 専門技術者名 | J15: 特定専門工事の該当 | L15: 有 ・ 無 | Q15: 特定専門工事の該当 | S15: 有 ・ 無 | X15: 特定専門工事の該当 | Z15: 有 ・ 無 | AE15: 特定専門工事の該当 | AG15: 有 ・ 無
B16: 担当工事内容 | I16: 専門技術者 | P16: 専門技術者 | W16: 専門技術者 | AD16: 専門技術者
J17: 担当工事 内 容 | Q17: 担当工事 内 容 | X17: 担当工事 内 容 | AE17: 担当工事 内 容
G18: 工期 | J18: 年 月 日 ～ 年 月 日 | N18: 工期 | Q18: 年 月 日 ～ 年 月 日 | U18: 工期 | X18: 年 月 日 ～ 年 月 日 | AB18: 工期 | AE18: 年 月 日 ～ 年 月 日
G20: 工事 | I20: 会社名・事業者ID | N20: 工事 | P20: 会社名・事業者ID | U20: 工事 | W20: 会社名・事業者ID | AB20: 工事 | AD20: 会社名・事業者ID
I21: 代表者名 | P21: 代表者名 | W21: 代表者名 | AD21: 代表者名
I22: 許可番号 | P22: 許可番号 | W22: 許可番号 | AD22: 許可番号
I23: 一般 / 特定の別 | L23: 一般 / 特定 | P23: 一般 / 特定の別 | S23: 一般 / 特定 | W23: 一般 / 特定の別 | Z23: 一般 / 特定 | AD23: 一般 / 特定の別 | AG23: 一般 / 特定
I24: 安全衛生責任者 | P24: 安全衛生責任者 | W24: 安全衛生責任者 | AD24: 安全衛生責任者
I25: 主任技術者 | P25: 主任技術者 | W25: 主任技術者 | AD25: 主任技術者
J26: 特定専門工事の該当 | L26: 有 ・ 無 | Q26: 特定専門工事の該当 | S26: 有 ・ 無 | X26: 特定専門工事の該当 | Z26: 有 ・ 無 | AE26: 特定専門工事の該当 | AG26: 有 ・ 無
I27: 専門技術者 | P27: 専門技術者 | W27: 専門技術者 | AD27: 専門技術者
J28: 担当工事 内 容 | Q28: 担当工事 内 容 | X28: 担当工事 内 容 | AE28: 担当工事 内 容
G29: 工期 | J29: 年 月 日 ～ 年 月 日 | N29: 工期 | Q29: 年 月 日 ～ 年 月 日 | U29: 工期 | X29: 年 月 日 ～ 年 月 日 | AB29: 工期 | AE29: 年 月 日 ～ 年 月 日
G31: 工事 | I31: 会社名・事業者ID | N31: 工事 | P31: 会社名・事業者ID | U31: 工事 | W31: 会社名・事業者ID | AB31: 工事 | AD31: 会社名・事業者ID
I32: 代表者名 | P32: 代表者名 | W32: 代表者名 | AD32: 代表者名
I33: 許可番号 | P33: 許可番号 | W33: 許可番号 | AD33: 許可番号
I34: 一般 / 特定の別 | L34: 一般 / 特定 | P34: 一般 / 特定の別 | S34: 一般 / 特定 | W34: 一般 / 特定の別 | Z34: 一般 / 特定 | AD34: 一般 / 特定の別 | AG34: 一般 / 特定
I35: 安全衛生責任者 | P35: 安全衛生責任者 | W35: 安全衛生責任者 | AD35: 安全衛生責任者
I36: 主任技術者 | P36: 主任技術者 | W36: 主任技術者 | AD36: 主任技術者
J37: 特定専門工事の該当 | L37: 有 ・ 無 | Q37: 特定専門工事の該当 | S37: 有 ・ 無 | X37: 特定専門工事の該当 | Z37: 有 ・ 無 | AE37: 特定専門工事の該当 | AG37: 有 ・ 無
I38: 専門技術者 | P38: 専門技術者 | W38: 専門技術者 | AD38: 専門技術者
J39: 担当工事 内 容 | Q39: 担当工事 内 容 | X39: 担当工事 内 容 | AE39: 担当工事 内 容
G40: 工期 | J40: 年 月 日 ～ 年 月 日 | N40: 工期 | Q40: 年 月 日 ～ 年 月 日 | U40: 工期 | X40: 年 月 日 ～ 年 月 日 | AB40: 工期 | AE40: 年 月 日 ～ 年 月 日
G46: 業務委託 | I46: 会社名
I47: 安全衛生責任者
I48: 現場責任者
G51: 工期 | J51: 年 月 日 ～ 年 月 日
G55: 工事作業所災害防止協議会兼施工体系図（作成例）
A57: 発注者名 | C57: =C6 -> 0 | H57: 工期 | J57: 自 | K57: =K6 -> 46114
A58: 工事名称 | C58: =C7 -> ■■事業 ●●地区 ▲-▲工区 | J58: 至 | K58: =K7 -> 46477
...

Sheet 24
AH1: 年 | AK1: 月 | AN1: 日
A3: 再下請負通知書（様式例） | AR3: 《再下請負関係》
BC4: 再下請負業者及び再下請負契約関係について、次のとおり報告いたします。
AS5: 会社名 | BN5: 代表者名
B6: 直近上位 注文者名
W8: 【報告下請負業者】 | AS8: 住所 電話番号
X10: 住所
AS11: 工事名称 及び 工事内容
B13: 元請名称・ 事業者ID
AS14: 工期 | AY14: 自 年 月 日 至 年 月 日 | BN14: 契約日 | BT14: 年 月 日
X15: 会社名・ 事業者ID
X18: 代表者名 | AS18: 建設業の 許可 | AY18: 施工に必要な許可業種 | BI18: 許 可 番 号 | BW18: 許可（更新）年月日
B19: 《自社に関する事項》
AY20: 工事業 | BI20: 大臣 特定 | BN20: 第 号 | BW20: 年 月 日
B21: 工事名称 及び 工事内容 | BI21: 知事 一般
AY22: 工事業 | BI22: 大臣 特定 | BN22: 第 号 | BW22: 年 月 日
BI23: 知事 一般
B24: 工期 | H24: 自 年 月 日 至 年 月 日 | W24: 注文者との 契約日 | AC24: 年 月 日
AS25: 健康保険等の加入状況 | AZ25: 保険加入の有無 | BE25: 健康保険 | BO25: 厚生年金保険 | BX25: 雇用保険
BE27: 加入 未加入 適用除外 | BO27: 加入 未加入 適用除外 | BX27: 加入 未加入 適用除外
B28: 建設業の 許可 | H28: 施工に必要な許可業種 | R28: 許 可 番 号 | AF28: 許可（更新）年月日
AY29: 事業所 整理記号等 | BE29: 営業所の名称 | BL29: 健康保険 | BT29: 厚生年金保険 | CA29: 雇用保険
H30: 工事業 | R30: 大臣 特定 | W30: 第 号 | AF30: 年 月 日
R31: 知事 一般
H32: 工事業 | R32: 大臣 特定 | W32: 第 号 | AF32: 年 月 日
R33: 知事 一般
AR34: 現場代理人名 | BM34: 安全衛生責任者名
B35: 健康保険等の加入状況 | I35: 保険加入の有無 | N35: 健康保険 | X35: 厚生年金保険 | AG35: 雇用保険
AT36: 権限及び 意見申出方法 | BM36: 安全衛生推進者名
N37: 加入 未加入 適用除外 | X37: 加入 未加入 適用除外 | AG37: 加入 未加入 適用除外
AR38: 主任技術者名 | BA38: 専 任 非専任 | BM38: 雇用管理責任者名
H39: 事業所 整理記号等 | N39: 営業所の名称 | U39: 健康保険 | AC39: 厚生年金保険 | AJ39: 雇用保険
AT40: 資格内容 | BM40: 専門技術者名
BO42: 資格内容
A44: 監督員名 | V44: 安全衛生責任者名 | BO44: 担当工事内容
C46: 権限及び 意見申出方法 | V46: 安全衛生推進者名
AR47: 一号特定技能外 国人の従事の 状況（有無） | AZ47: 有 無 | BE47: 外国人建設就 労者の従事の 状況（有無） | BN47: 有 無 | BT47: 外国人技能実 習生の従事 状況（有無） | CB47: 有 無
A48: 現場代理人名 | V48: 雇用管理責任者名
C50: 権限及び 意見申出方法 | V50: 専門技術者名
A52: 主任技術者名 | J52: 専 任 非専任 | X52: 資格内容
...

Sheet 25
A1: 第３号様式
A2: 工 事 打 合 せ 簿
A3: 発議者 | E3: □発注者 | H3: □受注者 | K3: 発議年月日
A4: 発議事項 | E4: □指示 □協議 □通知 □承諾 □報告 □提出
E5: □その他 | H5: （ | X5: ）
A6: 工事名 | E6: =入力用!B6 -> ■■事業 ●●地区 ▲-▲工区 | O6: 請負者名 | S6: =入力用!B20 -> 0
B7: （内容）
B26: 添付図 | G26: 葉、その他添付図書
B27: 発注者 | C27: 上記について | G27: □指示 | J27: □承諾 | M27: □協議 | P27: □提出 | S27: □受理 | U27: します。
A28: 処理
G29: □変更契約の対象となるので、別途変更指示書にて通知します。
G30: □緊急を要するものであるため、工事打合簿により指示します。
G31: 併せて、変更契約の対象となるので、別途変更指示書にて通知します。
G32: □その他
A35: ・ | O35: 年月日：
B36: 受注者 | C36: 上記について | G36: □承諾 | J36: □協議 | M36: □提出 | P36: □報告 | S36: □受理 | U36: します。
A37: 回答
G38: □その他
O41: 年月日：
E43: 課 長 | H43: 係 長 | K43: 総 括 監督員 | N43: 監督員 | R43: 現 場 代理人 | U43: 主 任 （監 理） 技術者

Sheet 28
C3: 材料使用承認願
J4: =入力用!B6 -> ■■事業 ●●地区 ▲-▲工区 | AB4: =入力用!B20 -> 0
C5: 工事名 | U5: 請負業者名
J6: =入力用!B12 -> 令和8年4月2日～令和9年3月31日 | AB6: =入力用!B24 -> 0
C7: 工期 | U7: 現場代理人
AB8: =入力用!B18 -> ○○ ○○
C9: 路線（河川名） | U9: 総括監督員
AB10: =入力用!B19 -> △△ △△
C11: 工事箇所名 | U11: 監督員
B13: No. | E13: 材料名 | M13: 規格 | T13: 製造工場名 | AE13: 県産 資材 | AH13: 備考
T14: 所 在 地
B15: 指定資材
B33: その他資材

Sheet 32

Sheet 34
G1: （別紙報告書）
A3: 安全・訓練等の実施状況報告書
A5: 工事名 | B5: =入力用!B6 -> ■■事業 ●●地区 ▲-▲工区 | F5: 請負者名 | G5: =入力用!B20 -> 0
A6: 契約工期 | B6: =""&入力用!B12&"("&入力用!B11&"日間)" -> 令和8年4月2日～令和9年3月31日(364日間)
A7: 実施日 | B7: 所要時間 | C7: 参加人数 | D7: 実施内容等
A38: （注）実施状況写真は、別添のとおり。

Sheet 35
A1: 事 故 報 告 書
A5: 監督職員（氏名）
B6: =入力用!B19 -> △△ △△ | D6: 殿
E7: 受注者 | F7: 住所 | G7: =入力用!B21 -> 0
F8: 会社名等 | G8: =入力用!B20 -> 0
F9: 現場代理人 | G9: =入力用!B24 -> 0
A12: 鹿児島県農業土木工事共通仕様書第１編１－１－39条の規定に基づき、下記のとおり報告いたします。
A14: 記
A16: １ | B16: 工事件名 | D16: =入力用!B6 -> ■■事業 ●●地区 ▲-▲工区
A17: ２ | B17: 契約締結年月日 | D17: =入力用!B8 -> 46113
A18: ３ | B18: 事故発生日時
A19: ４ | B19: 事故発生場所
A20: ５ | B20: 被災者 | D20: 氏名 | F20: 性別
D21: 生年月日 | F21: 年齢
D22: 所属 | F22: 職種
D23: 経験年数
D24: 住所
A25: ６ | B25: 被災者の病状
A26: ７ | B26: 事故原因
A27: ８ | B27: 事故発生状況（位置図、平面図、ポンチ絵等）
A28: ９ | B28: 事故後の措置
B30: 日時 | C30: 措置内容 | G30: 相手方
A37: 10 | B37: 今後の対策
A38: 11 | B38: 添付書類（写真、新聞切抜等）

Sheet 36
A2: 工 事 履 行 報 告 書
A4: 工事名 | C4: =入力用!B6 -> ■■事業 ●●地区 ▲-▲工区
A5: 工期 | C5: =入力用!B9 -> 46114 | N5: ～ | O5: =入力用!B10 -> 46477
A6: 日付 | N6: （ | O6: 2 | Q6: 月分）
A7: 月 別 | G7: 予定工程 ％ （ ）は工程変更後 | N7: 実施工程 ％ | T7: 備 考
A8: 令和6年12月 | G8: 0.08 | N8: 0.08
A9: 令和7年1月 | G9: 0.346 | N9: 0.13
A10: 令和7年2月 | G10: 0.865
A11: 令和7年3月 | G11: 1
A19: （記事欄）
J27: 総 括 監督員 | M27: 監督員 | T27: 現 場 代理人 | W27: 主 任 （監理） 技術者

Sheet 37
A1: 別紙様式第1号
G3: 年月日： | H3: 令和 年 月 日
A5: 契約担当者
B6: =入力用!B15 -> 0
B7: =入力用!B16 -> □□ □□ | E7: 殿
F10: （請負者） | G10: =入力用!B21 -> 0
G11: =入力用!B20 -> 0 | J11: 印
G12: =入力用!B22 -> 0
A14: 認 定 請 求 書
B17: 工事請負契約書第35条の２の４項に基づき、下記工事の中間前金払の認定を請求します。
A21: 記
B24: 契 約 日 | D24: =入力用!B8 -> 46113
B27: 工 事 名 | D27: =入力用!B6 -> ■■事業 ●●地区 ▲-▲工区
B30: 工 期 | D30: 自 | E30: =入力用!B9 -> 46114
D32: 至 | E32: =入力用!B10 -> 46477
B35: 工 事 場 所 | D35: =入力用!B7 -> 0
B38: 請 負 代 金 額 | D38: ￥
A44: (注)1. | B44: 国庫債務負担行為に基づく契約の場合は、請負代金額欄の下段に各年度の出来高予定額を記入すること。
B46: 【記載例】
B47: （出来高予定額） | D47: 令和○○年度 | F47: ￥ △△△
D48: ～ | F48: ～
D49: 令和□□年度 | F49: ￥ ×××
A51: 2. | B51: 押印を省略する場合は、「発行責任者及び担当者」の氏名（フルネーム）及び連絡先（原則、固定電話番号）を記載すること。
B53: 【記載例】
B55: 【発行責任者及び担当者】
B56: ・責任者：○○支店長○○ ○○（連絡先×××－×××－××××）
B57: ・担当者：経理担当○○ ○○（連絡先×××－×××－××××）

Sheet 39
A1: 様式－１６
Z3: 年月日：
B5: 契約担当者
C6: =入力用!B15 -> 0
D7: =入力用!B16 -> □□ □□ | M7: 殿
X11: （請負者） | Y11: =入力用!B21 -> 0
Y12: =入力用!B20 -> 0 | AH12: 印
Y13: =入力用!B22 -> 0
A15: 指 定 部 分 完 成 通 知 書
D18: 下記工事の指定部分は、 | M18: 年 月 日 | V18: をもって完成したので工事請負
C20: 工事請負契約書第32条第1項に基づき通知します。
A23: 記
D26: 工事名 | H26: =入力用!B6 -> ■■事業 ●●地区 ▲-▲工区
D29: 工 期 | H29: 自 | I29: =入力用!B9 -> 46114 | T29: 至 | U29: =入力用!B10 -> 46477
D32: 請負代金額 | I32: ￥
D34: 指定部分に対する請負代金額 | P34: ￥
D42: (注) | F42: 国庫債務負担行為に基づく契約の場合、は請負代金額欄の下段に各年度の
F43: 出来高予定額を記入すること。
F44: 【記載例】
G45: （出来高予定額） | O45: 令和○○年度 | W45: ￥ △△△
Q46: ～ | W46: ～
O47: 令和□□年度 | W47: ￥ ×××

Sheet 40
Z3: 年月日：
B5: 契約担当者
C6: =入力用!B15 -> 0
D7: =入力用!B16 -> □□ □□ | M7: 殿
X9: （請負者） | Y9: =入力用!B21 -> 0
Y10: =入力用!B20 -> 0
Y11: =入力用!B22 -> 0
A13: 指 定 部 分 引 渡 書
D16: 下記工事の指定部分を工事請負契約書第39条第1項に基づき引渡します。
B18: 工 事 名 | J18: =入力用!B6 -> ■■事業 ●●地区 ▲-▲工区
B19: 指 定 部 分
B20: 全 体 工 期 | J20: 自 | L20: =入力用!B9 -> 46114 | V20: 至 | X20: =入力用!B10 -> 46477
B21: 指定部分に係る工期 | J21: 自 | V21: 至
B22: 請 負 代 金 額 | J22: ￥
B23: 指定部分に係る請負代金額 | J23: ￥
B24: 指定部分に係る検査年月日

Sheet 42
A1: 様式－１９
E3: 年月日：
B6: 契約担当者
B7: =入力用!B15 -> 0
B8: =入力用!B16 -> □□ □□ | C8: 殿
C11: （請負者） | E11: =入力用!B21 -> 0
E12: =入力用!B20 -> 0 | H12: 印
E13: =入力用!B22 -> 0
A16: 請 負 工 事 既 済 部 分 検 査 請 求 書
B19: 工事請負契約書第38条の２により既済部分検査を請求します。
A22: 記
B24: 工 事 名 | C24: =入力用!B6 -> ■■事業 ●●地区 ▲-▲工区
B25: 工 期 | C25: 自 | D25: =入力用!B9 -> 46114
C26: 至 | D26: =入力用!B10 -> 46477

Sheet 44
AI3: （部分払の場合）
A6: 請 求 内 訳 書
B9: 1. | D9: 請負代金額 | M9: （A） | P9: ￥
B12: 2. | D12: 前払金額 | M12: （B） | P12: ￥
B15: 3. | D15: 出来高金額 | M15: （C） | P15: ￥
B18: 4. | D18: 前回までの出来高金額 | M18: （D） | P18: ￥
B21: 5. | D21: 今回の出来高金額
M22: （E=C-D） | P22: ￥ | Q22: =IF(Q15-Q18=0,"",Q15-Q18)
B25: 6. | D25: 請求し得る金額 | K25: (E×(9/10-B/A)) | P25: ￥ | Q25: =IF(ISERROR(Q22*(9/10-(AD26/100))),"",Q22*(9/10-(AD26/100))) | AB25: B/A= | AD25: =IF(ISERROR(Q12/Q9*100),"",Q12/Q9*100) | AH25: ％
AC26: ≒ | AD26: =IF(ISERROR(ROUNDUP(AD25,0)),"",ROUNDUP(AD25,0)) | AH26: ％
B28: 7. | D28: 今回請求する金額 | P28: ￥ | Q28: =IF(ISERROR(ROUNDDOWN(Q25,-3)),"",ROUNDDOWN(Q25,-3))
B32: （注） | E32: 1. | F32: （6）欄の末尾にはB/Aの割合を記入すること。ただし、B/Aの率は1％未満は切上げること。
E34: 2. | F34: 工事請負契約書第38条第6項及び第7項により算出

Sheet 45
AI3: （国債部分払の場合）
A6: 請 求 内 訳 書
B9: 区 分 | N9: 金 額 | X9: 備 考
B10: 請負代金相当額 | L10: A | N10: ￥
B11: 今回請求する年度までの各年度の出来高と出来高予定額の総額 | L11: B | N11: ￥
B12: A×9/10 | L12: C | N12: ￥ | O12: =IF(OR(O10>=O11,O10=""),"",O10*9/10)
B13: 前回までの受領済額 | L13: D | N13: ￥
B14: （前会計年度までの支払金額＋当該会計年度の部分払金額)
B16: 前会計年度までの出来高予定額＋ 出来高超過 | L16: E | N16: ￥ | O16: =IF(Z17+Z19=0,"",Z17+Z19) | X16: 前会計年度までの出来高予定額
Y17: \
X18: 出来高超過
Y19: \
B20: 当該会計年度前払金額/ 当該会計年度の出来高予定額 | L20: F | AB20: % | AC20: ≒ | AD20: =IF(OR(X20="",ISERROR(ROUNDUP(X20,0))),"",ROUNDUP(X20,0)) | AH20: %
B21: 請求し得る金額 C－D-（A－E）×F | L21: G | N21: ￥ | O21: =IF(ISERROR(O12-O13-(O10-O16)*O20),"",O12-O13-(O10-O16)*O20)
B22: 今回請求する金額 | N22: ￥ | O22: =IF(ISERROR(ROUNDDOWN(O21,-3)),"",ROUNDDOWN(O21,-3))
B26: （注） | E26: 1. | F26: A≧Bの場合は、C～Gまでは記入しない。
E27: 2. | F27: C欄の金額は、円以下銭まで算出すること。
E28: 3. | F28: F欄の率は、小数点以下は切り上げること。
E29: 4. | F29: 工事請負契約書第42条第2項（a）により算出する。
E30: 5. | F30: 工事請負契約書第42条第2項（b）を採用した場合（中間前払金）は、次のとおり読み替えるものとする。
F32: イ | H32: D欄については「前会計年度までの受領金額」とする。
F33: ロ | H33: E欄については「前会計年度までの出来高予定額」とする。
F34: ハ | H34: F欄については「 | O34: 当該会計年度の前払金＋当該会計年度の中間前払金 | AI34: 」
O35: 当該会計年度の出来高予定額
E36: 6. | F36: 請負代金相当額は出来高金額（工事請負契約書第38条第2項に基づく既済部分検査後の協議済額）とする。

Sheet 46
AI3: （指定部分払の場合）
A6: 請 求 内 訳 書
G10: 区分 | L10: 総額 | V10: 内訳
B11: 名称 | V11: 指定部分 | AC11: その他
B12: 請負代金額 | J12: A | L12: ￥ | V12: a' | AC12: a"
B13: 前払金額 | J13: B | L13: ￥ | V13: b' | W13: =IF(ISERROR(W12/M12*M13),"",ROUNDUP(W12/M12*M13,0)) | AC13: b" | AD13: =IF(ISERROR(M13-W13),"",M13-W13)
B14: 前回までの出来高 部分払金受領済額 | J14: C | L14: ￥ | V14: c' | AC14: c"
B15: 請求し得る金額 | J15: D | L15: ￥ | M15: =IF(ISERROR(W12-W13-W14),"",W12-W13-W14) | V15: d'
B19: (注) | D19: 1. | E19: 各計算は次によるものとする。
E20: b'＝a'/A×B（円未満は切り上げること）
E21: b"＝B－b'
E22: D＝a'－b'-c'
D24: 2. | E24: 上記b'の計算は国債工事以外の場合に使用し、国債工事の場合は、
E25: 契約担当が指示する。

Sheet 47
A2: 工 事 出 来 高 内 訳 書
A3: =入力用!B6 -> ■■事業 ●●地区 ▲-▲工区 | L3: =入力用!B20 -> 0
A4: 費目 | B4: 工種 | C4: 種別 | D4: 単位 | E4: 契約数量（Ａ） | F4: 構成比（Ｂ） | G4: 前回までの出来形数量 | H4: 今回出来形数量 | I4: 今回までの出来形累計数量（Ｃ） | J4: 残数量 | K4: 出来形比率（Ｄ）％ | L4: 摘要
A18: 直接工事費
A19: 共通仮設費

Sheet 48
A1: 第７号様式
Z3: 年月日：
A6: 契約担当者
B7: =入力用!B15 -> 0
G8: =入力用!B16 -> □□ □□ | P8: 殿
T11: （請負者名） | Y11: =入力用!B21 -> 0
Y12: =入力用!B20 -> 0 | AH12: 印
Y13: =入力用!B22 -> 0
A16: 工 期 延 期 届
A20: 工事請負契約書第22条１項による工期の延長を下記のとおり請求します。
A24: 記
A26: 工 事 名 | I26: =入力用!B6 -> ■■事業 ●●地区 ▲-▲工区
A28: 契 約 月 日 | I28: =入力用!B8 -> 46113
A30: 工 期 | I30: 自 | O30: =入力用!B9 -> 46114
I31: 至
A32: 延 長 工 期 | I32: 自 | O32: =入力用!B9 -> 46114
I33: 至
A34: 理 由
B46: (注)
D47: 1 | E47: 必要により下記書類を添付すること。
E48: a | F48: 工程表（契約当初工程と現在迄の実際の工程及び延長工程の3工程を対象させ、詳細に記入）
E50: b | F50: 天候表、気温表、湿度表、雨量表、積雪表、風速表等工期中と過去の平均とを対照し最寄気象台等の証明等を受けること。
E52: c | F52: 写真、図面等
D53: 2 | E53: 理由は詳細に記入すること。

Sheet 49
A1: 【参考様式】
Z4: 年月日：
B6: 監督職員（官職氏名）
D7: =入力用!B19 -> △△ △△ | M7: 殿
X11: （現場代理人氏名） | Y11: =入力用!B24 -> 0 | AH11: 印
D14: 年 月 日 | M14: の | N14: （ ） | W14: 検査において、修補指示
C16: されました部分につきましては、下記のとおり完了しましたので報告します。
A19: 修補完了報告書
A21: 工事名 | G21: =入力用!B6 -> ■■事業 ●●地区 ▲-▲工区
B23: 検査職員の修補指示箇所及び修補内容
C46: （注）本文（ ）内には、検査種類を記入する。

Sheet 50
A3: 年 月 日
A5: 支出又は分任支出負担行為担当官（官職氏名）
A7: 殿
A9: （受注者） | F9: =入力用!B21 -> 0
F10: =入力用!B20 -> 0
F11: =入力用!B22 -> 0
A15: 修 補 完 了 届
A19: 年 月 日の（ ）検査において、指示されました
A21: 修補部分については、下記のとおり完了しましたのでお届けいたします。
A24: 記
A27: 工 事 名 | D27: =入力用!B6 -> ■■事業 ●●地区 ▲-▲工区
A30: 契 約 額
A32: 工 事 場 所 | D32: =入力用!B7 -> 0
A34: 契 約 年 月 日
A36: 期 限 年 月 日
A38: 完 了 年 月 日
A40: 修補、改造箇所及び補修内容
A45: －－－－－－－－－－－－－－－－－－－－－－－－－－－－－－－－－－－－－－－
A46: （注）本文（ ）内には、検査種類を記入する。

Sheet 51
A1: 様式－２２
Z3: 年月日：
B6: 受信者：「契約担当者」又は「請負者名」
K7: 殿
AH10: 発信者：「契約担当者」又は「請負者名」
AH11: 印
A14: 工事の部分使用について
D18: 標記について、下記のとおり部分使用することを、工事請負契約書第34条
D20: に基づき（ | I20: 協議 ・ 承諾 | P20: ）する。
A24: 記
D27: 1．使用目的
D31: 2．使用部分
D35: 3．使用期間 | J35: 自
J36: 至
D38: 4．使用者
D42: 5．その他
D48: (注) | F48: 1. | G48: （協議・承諾）には、いずれかに印をつける。
F49: 2. | G49: 協議の場合は、受信者を「受注者名」、発信者を「契約担当者」として、
G50: 発注者が作成する。
F51: 3. | G51: 承諾の場合は、受信者を「契約担当者」、発信者を『受注者名』として、
G52: 受注者が作成する。
F53: 4. | G53: その他には、工事名、工事場所及びその他必要な事項を記載すること。

Sheet 52-1
A2: 支給材料（又は貸与品）受領（又は借用）書
A6: 契約担当者
A7: =入力用!B15 -> 0
A8: =入力用!B16 -> □□ □□ | C8: 殿
D10: 受注者 | E10: 住所 | F10: =入力用!B21 -> 0
E11: 氏名 | F11: =入力用!B22 -> 0
E12: 現場代理人 | F12: =入力用!B24 -> 0
A14: 工事名 | B14: =入力用!B6 -> ■■事業 ●●地区 ▲-▲工区
A17: =" "&入力用!B8&"契約締結した上記の工事用として下記のとおり支給材料（又は貸与品）の引渡しを受けたので、工事請負契約書第15条第３項の規定に基づき受領（又は借用）書を提出します。" -> 46113契約締結した上記の工事用として下記のとおり支給材料（又は貸与品）の引渡しを受けたので、工事請負契約書第15条第３項の規定に基づき受領（又は借用）書を提出します。
B19: 記
A21: 品名 | B21: 規格 | C21: 単位 | D21: 数量 | G21: 備考
D22: 今回 | E22: 前回まで | F22: 計
G25: 間 受 領 分
G28: 間 受 領 分
G31: 間 受 領 分
G34: 間 受 領 分
G37: 間 受 領 分

Sheet 52-2
A3: 支 給 品 受 領 書
A7: 契約担当者
A8: =入力用!B15 -> 0
A9: =入力用!B16 -> □□ □□ | D9: 殿
H10: 年月日：
G12: 受注者 （住所） | H12: =入力用!B21 -> 0
G15: （氏名） | H15: =入力用!B22 -> 0
G16: （現場代理人氏名） | H16: =入力用!B24 -> 0
A18: 下記のとおり支給品を受領しました。
A20: 記
A22: 工 事 名 | B22: =入力用!B6 -> ■■事業 ●●地区 ▲-▲工区 | H22: 契約年月日 | J22: =入力用!B8 -> 46113
A23: 品 目 | C23: 規 格 | D23: 単 位 | E23: 数 量 | J23: 備 考
E24: 前回まで | F24: 今 回 | H24: 累 計

Sheet 53-1
A2: 支給材料（又は貸与品）返還書
A6: 契約担当者
A7: =入力用!B15 -> 0
A8: =入力用!B16 -> □□ □□ | C8: 殿
D10: 受注者 | E10: 住所 | F10: =入力用!B21 -> 0
E11: 氏名 | F11: =入力用!B22 -> 0
E12: 現場代理人 | F12: =入力用!B24 -> 0
A14: 工事名 | B14: =入力用!B6 -> ■■事業 ●●地区 ▲-▲工区
A17: =" "&"令和 年 月 日"&"契約締結した上記の工事用支給材料（又は貸与品）について工事請負契約書第15条第９項の規定に基づき、下記のとおり使用残を返還します。" -> 令和 年 月 日契約締結した上記の工事用支給材料（又は貸与品）について工事請負契約書第15条第９項の規定に基づき、下記のとおり使用残を返還します。
A19: 記
A21: 品名 | B21: 規格 | C21: 単位 | D21: 数量 | E21: 数量
E22: 受 | F22: 払 | G22: 残

Sheet 53-2
A3: 支 給 品 精 算 書
I5: 年月日：
A7: 契約担当者
A8: =入力用!B15 -> 0
A9: =入力用!B16 -> □□ □□ | D9: 殿
G10: 受注者 （住所） | H10: =入力用!B21 -> 0
G12: （氏名） | H12: =入力用!B22 -> 0
G13: （現場代理人氏名） | H13: =入力用!B24 -> 0
A15: 下記のとおり支給品を精算します。
A17: 記
A19: 工 事 名 | B19: =入力用!B6 -> ■■事業 ●●地区 ▲-▲工区 | F19: 契約年月日 | H19: =入力用!B8 -> 46113
A20: 品 目 | C20: 規 格 | D20: 単位 | E20: 数 量 | I20: 備 考
E21: 支給数量 | F21: 使用数量 | G21: 残 数 量
A38: ※ | J38: ※物品管理簿登記
B39: 上記精算について調査したところ、事実に相違ないことを証明する。
A40: 総括監督員
E41: 年月日：
A42: 証 明 欄
E43: （官職氏名）
A47: (注) ※は総括監督員が記入する。

Sheet 54
E1: 年月日：
A3: 契約担当者
A4: =入力用!B15 -> 0
A5: =入力用!B16 -> □□ □□ | B5: 殿
D6: 受注者 （住所） | E6: =入力用!B21 -> 0
D8: （氏名） | E8: =入力用!B22 -> 0
D9: （現場代理人氏名） | E9: =入力用!B24 -> 0
A11: 工事現場発生材報告書
A14: =""&"令和 年 月 日"&"付けをもって請負契約を締結した"&入力用!B6&"における下記の発生品を引き渡します。" -> 令和 年 月 日付けをもって請負契約を締結した■■事業 ●●地区 ▲-▲工区における下記の発生品を引き渡します。
A18: 記
A20: 品 名 | B20: 規 格 | C20: 単 位 | D20: 数 量 | F20: 摘 要

Sheet 56
J1: 様式１
A3: 産業廃棄物管理票(マニフェスト)総括表
J5: 令和 年 月 日
G7: 工事名： | H7: =入力用!B6 -> ■■事業 ●●地区 ▲-▲工区
G8: 工事場所： | H8: =入力用!B7 -> 0
G9: 請負者名： | H9: =入力用!B20 -> 0
G10: 現場代理人氏名： | H10: =入力用!B24 -> 0
A13: 番号 | B13: 交付年月日 | C13: 交付番号 | D13: 数量 | E13: 単位 | F13: 収集・運搬業者の名称 | G13: 処分業者の名称 | H13: 最終処分終了日 | I13: Ｅ票確認日 | J13: 備考
A43: 合計
A45: ※1 | B45: 廃棄物の品目毎に作成すること。
A46: 2 | B46: 収集業者と運搬業者、中間処理業者と最終処分業者が異なる等の場合は、適宜項目を追加し作成すること。
A47: 3 | B47: Ｅ票が処分業者より返送されていない場合は、直近に返送された管理票の確認日を備考欄に記載すること。
J49: 様式１
A51: 産業廃棄物管理票(マニフェスト)総括表
J53: 令和８年３月１８日
G55: 工事名： | H55: 道路改築工事(○○道路００－００工区)
G56: 工事場所： | H56: 国道000号 ○○郡○○町○○地内
G57: 請負者名： | H57: (株)鹿児島組
G58: 現場代理人氏名： | H58: 土木 一郎
A60: コンクリート
A61: 番号 | B61: 交付年月日 | C61: 交付番号 | D61: 数量 | E61: 単位 | F61: 収集・運搬業者の名称 | G61: 処分業者の名称 | H61: 最終処分終了日 | I61: Ｅ票確認日 | J61: 備考
A62: 1 | B62: 42217 | C62: 12345678910 | D62: 3 | E62: m3 | F62: (有)河川運送 | G62: (株)砂防産業 | H62: 42628 | I62: 42633
A63: 2 | B63: 42217 | C63: 12345678911 | D63: 3 | E63: m3 | F63: (有)河川運送 | G63: (株)砂防産業 | H63: 42628 | I63: 42633
A64: 3 | B64: 42217 | C64: 12345678912 | D64: 3 | E64: m3 | F64: (有)河川運送 | G64: (株)砂防産業 | H64: 42628 | I64: 42633
A65: 4 | B65: 42217 | C65: 12345678913 | D65: 1.5 | E65: m3 | F65: (有)河川運送 | G65: (株)砂防産業 | H65: 42628 | I65: 42633
A66: 5 | B66: 42430 | C66: 23456789010 | D66: 3 | E66: m3 | F66: (有)河川運送 | G66: (株)砂防産業 | J66: B2票H.28.3.15
A67: 6 | B67: 42430 | C67: 23456789011 | D67: 2 | E67: m3 | F67: (有)河川運送 | G67: (株)砂防産業 | J67: B2票H.28.3.15
A91: 合計 | D91: =SUM(D62:D90) -> 15.5 | E91: m3
A93: ※1 | B93: 廃棄物の品目毎に作成すること。
A94: 2 | B94: 収集業者と運搬業者、中間処理業者と最終処分業者が異なる等の場合は、適宜項目を追加し作成すること。
A95: 3 | B95: Ｅ票が処分業者より返送されていない場合は、直近に返送された管理票の確認日を備考欄に記載すること。

Sheet 57
A1: 様式－２９
Z3: 年月日：
B5: 契約担当者
C6: =入力用!B15 -> 0
D7: =入力用!B16 -> □□ □□ | M7: 殿
X10: （請負者） | Y10: =入力用!B21 -> 0
Y11: =入力用!B20 -> 0 | AH11: 印
Y12: =入力用!B22 -> 0
A14: 完 成 通 知 書
D17: 下記工事は | I17: 年 月 日 | R17: をもって完成したので工事請負契約書
C19: 第32条第1項に基づき通知します。
A22: 記
D25: 1． | E25: 工 事 名 | J25: =入力用!B6 -> ■■事業 ●●地区 ▲-▲工区
D28: 2． | E28: 請負代金額 | J28: ￥
D31: 3． | E31: 契約年月日 | J31: =入力用!B8 -> 46113
D34: 4． | E34: 工 期 | J34: 自 | K34: =入力用!B9 -> 46114 | U34: 至 | V34: =入力用!B10 -> 46477
D40: (注) | F40: 本文の年月日は、実際に完成した年月日を記載する。

Sheet 58
A1: 第１０－１号様式
Z3: 年月日：
B5: 契約担当者
C6: =入力用!B15 -> 0
D7: =入力用!B16 -> □□ □□ | M7: 殿
X9: （請負者） | Y9: =入力用!B21 -> 0
Y10: =入力用!B20 -> 0
Y11: =入力用!B22 -> 0
A14: 引 渡 書
D18: 下記工事を工事請負契約書第32条４項に基づき引渡します。
D21: 1． | E21: 工事名 | I21: =入力用!B6 -> ■■事業 ●●地区 ▲-▲工区
D24: 2． | E24: 請負代金額 | J24: ￥
D27: 3． | E27: 検査年月日

Sheet 62
A1: .
E2: 年月日：
C4: 品 質 証 明 書
F5: =入力用!B6 -> ■■事業 ●●地区 ▲-▲工区
E6: 工事名 ：
A8: 品 質 証 明 記 事
A9: 品 質 証 明 事 項 | B9: 実 施 日 | C9: 箇 所 | D9: 品質証明員氏名 印 | F9: 記 事
A20: 社内検査した結果、工事請負契約書、図面、仕様書、その他関係図書に示された品質を確保して
A21: いることを確認したので、報告します。
E23: 受注者 住 所 | F23: =入力用!B21 -> 0
E25: 氏 名 | F25: =入力用!B22 -> 0

Sheet 63
K1: （参考様式）
B2: 現場環境改善実施計画書
A4: 工事名： | B4: ○○事業 ○○地区 ○－○工区
A5: 工事場所： | B5: ○○市町村 ○○地内
A6: 工期：
A8: １ 率計上分 | K8: 単位：円
A9: ※共通仮設費率計上分の費用については、任意記載とし省略してよい。 | I9: ↓自動計算
A10: 実施項目 | B10: 具体的な実施内容 （取組の目的及び効果等を記入） | C10: 費用（任意） | J10: 実施期間 | K10: 備考
C11: 区分 | E11: 種類 | F11: 単価 | G11: 数量 | H11: 月数 | I11: 金額
C12: 購入品 | D12: ﾘｰｽ品 | F12: A | G12: N | H12: M | I12: A×N×M
A13: 【記入例】 安全関係 | B13: ・監視カメラを設置し、現場状況を遠隔で確認した。（仮設備） ・作業員の環境改善のため、ソファーを現場休憩所に設置した。（営繕） ・道路工事でデザイン性のあるバリケードを設置した。（安全） ・地域住民に工事概要を知ってもらうために、ＰＲ看板を設置した。（地域連携） | I13: =ROUNDDOWN(F13*G13*H13,0) -> 0
D14: ○ | E14: ﾊﾞﾘｹｰﾄﾞ | F14: 5700 | G14: 3 | H14: 6 | I14: =ROUNDDOWN(F14*G14*H14,0) -> 102600 | J14: R8.6～R9.11
I15: =ROUNDDOWN(F15*G15*H15,0) -> 0
I16: =ROUNDDOWN(F16*G16*H16,0) -> 0
A17: 小計 | I17: =ROUNDDOWN(SUM(I13:I16),-3) -> 102000
A18: 仮設備関係 | I18: =ROUNDDOWN(F18*G18*H18,0) -> 0
I19: =ROUNDDOWN(F19*G19*H19,0) -> 0
I20: =ROUNDDOWN(F20*G20*H20,0) -> 0
I21: =ROUNDDOWN(F21*G21*H21,0) -> 0
A22: 小計 | I22: =ROUNDDOWN(SUM(I18:I21),-3) -> 0
A23: 営繕関係 | I23: =ROUNDDOWN(F23*G23*H23,0) -> 0
I24: =ROUNDDOWN(F24*G24*H24,0) -> 0
I25: =ROUNDDOWN(F25*G25*H25,0) -> 0
I26: =ROUNDDOWN(F26*G26*H26,0) -> 0
A27: 小計 | I27: =ROUNDDOWN(SUM(I23:I26),-3) -> 0
A28: 安全関係 | I28: =ROUNDDOWN(F28*G28*H28,0) -> 0
I29: =ROUNDDOWN(F29*G29*H29,0) -> 0
I30: =ROUNDDOWN(F30*G30*H30,0) -> 0
I31: =ROUNDDOWN(F31*G31*H31,0) -> 0
A32: 小計 | I32: =ROUNDDOWN(SUM(I28:I31),-3) -> 0
A33: 地域連携 | I33: =ROUNDDOWN(F33*G33*H33,0) -> 0
I34: =ROUNDDOWN(F34*G34*H34,0) -> 0
I35: =ROUNDDOWN(F35*G35*H35,0) -> 0
I36: =ROUNDDOWN(F36*G36*H36,0) -> 0
A37: 小計 | I37: =ROUNDDOWN(SUM(I33:I36),-3) -> 0
A38: 計（１） | I38: =I22+I27+I32+I37 -> 0
A40: ２-1 積上げ計上分（熱中症対策・防寒対策）
A41: ※現場管理費に計上される作業員個人の費用と重複がないこと。 | K41: 単位：円
A42: ※施工計画に係る発注者との協議で必要性が確認された内容を記載する。（設計変更対象） | I42: ↓自動計算
A43: 実施項目 | B43: 具体的な実施内容 （取組の目的及び効果等を記入） | C43: 費用 | J43: 実施期間 | K43: 備考
...

Sheet 64
A2: 創意工夫・社会性等に関する実施状況
A4: 工 事 名 | B4: =入力用!B6 -> ■■事業 ●●地区 ▲-▲工区 | D4: 受注者名 | E4: =入力用!B20 -> 0
A5: 項 目 | B5: 評価内容 | C5: 実施内容
A7: □創意工夫 | B7: □施工 | C7: ・施工に伴う器具、工具、装置等の工夫
C8: ・コンクリート二次製品等の代替材の適用
C9: ・施工方法の工夫、施工環境の改善
A10: 自ら立案実施した創意工夫や技術力 | C10: ・仮設備計画の工夫
C11: ・施工管理の工夫
C12: ・ＩＣＴ（情報通信技術）の活用 等
B16: □新技術活用 | C16: ＮＥＴＩＳ登録技術のうち、
C17: ・試行技術の活用
C18: ・「少実績優良技術」の活用
C19: ・「少実績優良技術」 を除く「有用とされる技術」 の活用
C20: ・試行技術及び「有用とされる技術」以外の新技術 の活用
B24: □品質 | C24: ・土工、設備、電気の品質向上の工夫
C25: ・コンクリートの材料、打設、養生の工夫
C26: ・鉄筋、コンクリート二次製品等使用材料の工夫
C27: ・配筋、溶接作業等の工夫 等
B30: □安全衛生 | C30: ・安全衛生教育・講習会・パトロール等の工夫
C31: ・仮設備の工夫
C32: ・作業環境の改善
C33: ・交通事故防止の工夫
C34: ・環境保全の工夫 等
A36: □社会性等 | B36: □地域への貢献等 | C36: ・周辺環境への配慮
C37: ・現場環境の周辺地域との調和
A38: 地域社会や住民に対する貢献 | C38: ・地域住民とのコミュニケーション
C39: ・災害時など地域への支援・行政などによる救援活 動への協力 等
A43: 創意工夫・社会性等に関する実施状況
A45: 工 事 名 | B45: =入力用!B6 -> ■■事業 ●●地区 ▲-▲工区
A46: 項 目 | C46: 評価内容
A47: 提案内容
A48: （説明）
A56: (添付図）
A87: 説明資料は簡潔に作成するものとし、必要に応じて別葉とする。

Sheet 68
A1: 下請業者使用実績報告書
K3: 工 事 名： | L3: =入力用!B6 -> ■■事業 ●●地区 ▲-▲工区
K4: 請負業者名： | L4: =入力用!B20 -> 0
A7: 元請 業者 区分 | B7: 最終請負 金額 （千円） | C7: 全下請業者使用状況 | G7: 階層別下請使用状況
C8: 総数 | D8: 下請業者内訳 | G8: 下請 階層 | H8: 管内 | J8: 管外（県内） | L8: 不活用理由 | P8: 県外 | R8: 不活用理由
D9: 管内 | E9: 管外 (県内) | F9: 県外 | H9: 業者数 | I9: 契約金額 | J9: 業者数 | K9: 契約金額 | L9: ① | M9: ② | N9: ③ | O9: ④ | P9: 業者数 | Q9: 契約金額 | R9: ① | S9: ② | T9: ③ | U9: ④
G10: 一次
G11: 二次
G12: 三次
G13: 四次
G14: 五次
G15: 小計 | H15: =SUM(H10:H14) -> 0 | I15: =SUM(I10:I14) -> 0 | J15: =SUM(J10:J14) -> 0 | K15: =SUM(K10:K14) -> 0 | L15: =SUM(L10:L14) -> 0 | M15: =SUM(M10:M14) -> 0 | N15: =SUM(N10:N14) -> 0 | O15: =SUM(O10:O14) -> 0 | ... U15: =SUM(U10:U14) -> 0
A16: 下請業者使用実績報告書
K18: 工 事 名：
K19: 請負業者名：
A21: 元請 業者 区分 | B21: 最終請負 金額 （千円） | C21: 全下請業者使用状況 | G21: 階層別下請使用状況
C22: 総数 | D22: 下請業者内訳 | G22: 下請 階層 | H22: 管内 | J22: 管外（県内） | L22: 不活用理由 | P22: 県外 | R22: 不活用理由
D23: 管内 | E23: 管外 (県内) | F23: 県外 | H23: 業者数 | I23: 契約金額 | J23: 業者数 | K23: 契約金額 | L23: ① | M23: ② | N23: ③ | O23: ④ | P23: 業者数 | Q23: 契約金額 | R23: ① | S23: ② | T23: ③ | U23: ④
A24: 1 | B24: 100000 | C24: 10 | D24: 4 | E24: 5 | F24: 1 | G24: 一次 | H24: 2 | I24: 9000 | J24: 1 | K24: 2000 | M24: 1 | P24: 1 | Q24: 3000 | U24: 1
G25: 二次 | H25: 2 | I25: 4000 | J25: 2 | K25: 6000 | N25: 1 | P25: 0 | Q25: 0 | R25: 1
G26: 三次 | H26: 0 | I26: 0 | J26: 2 | K26: 4000 | O26: 1 | P26: 0 | Q26: 0 | S26: 1
G28: 小計 | H28: =SUM(H24:H27) -> 4 | I28: =SUM(I24:I27) -> 13000 | J28: =SUM(J24:J27) -> 5 | K28: =SUM(K24:K27) -> 12000 | L28: =SUM(L24:L27) -> 0 | M28: =SUM(M24:M27) -> 1 | N28: =SUM(N24:N27) -> 1 | O28: =SUM(O24:O27) -> 1 | ... U28: =SUM(U24:U27) -> 1
J30: （記載要領） １）元請業者の区分は、次のとおりとする。 管内：１ 管外(県内)：２ 県外：３ ２）契約金額の集計は、次のとおりとする。 ・一次下請業者の金額は、各下請系列において二次下請との契約 金額を引いた額とする。 ・二次下請業者の金額は、各下請系列において三次下請との契約 金額を引いた額とする。 ・以下同様とする。 ・上記により算出された金額を階層毎に集計する。 ３）不活用理由欄は、状況報告書で選択した番号に、該当する業者 数を記載する。
A41: （計算例）管内一次：9,000＝（8,000-4,000）＋（10,000-5,000）

Sheet 69
CV2: 記入例
D3: 建設資材使用実績報告書 | AT3: 建設資材使用実績報告書
J4: =入力用!B6 -> ■■事業 ●●地区 ▲-▲工区 | AE4: =入力用!B20 -> 0
C5: 工事名 | W5: 請負業者名 | AS5: 工事名 | BM5: 請負業者名
J6: =入力用!B12 -> 令和8年4月2日～令和9年3月31日 | AE6: =入力用!B24 -> 0
C7: 工期 | W7: 現場代理人 | AS7: 工期 | BM7: 現場代理人
AE8: =入力用!B18 -> ○○ ○○
C9: 路線(河川名) | W9: 総括監督員 | AS9: 路線(河川名) | BM9: 総括監督員
AE10: =入力用!B19 -> △△ △△
C11: 工事箇所名 | W11: 監督員 | AS11: 工事箇所名 | BM11: 監督員 | CG11: ※黄色着色部分は編集不可。
C13: 最終請負金額 | U13: 千円也 | AS13: 最終請負金額 | BK13: 千円也
CG14: No. | CL14: 生コン「1]、ｺﾝｸﾘｰﾄ二次製品「2]、石材類「3]、ｱｽﾌｧﾙﾄ合材「4」、 木材「5」、樹木「6」、野芝「7」、その他「8」を選択
B15: No. | E15: 材料名 | M15: 規格 | T15: 県産 資材 | W15: 数量 | AB15: 単位 | AD15: 金額 （千円） | AJ15: 調達業者 | AR15: No. | AU15: 材料名 | BC15: 規格 | BJ15: 県産 資材 | BM15: 数量 | BR15: 単位 | BT15: 金額 （千円） | BZ15: 調達業者
B17: 指定資材 | AR17: 指定資材 | CG17: 材料名・規格欄 | CL17: 材料使用承認願の記載と同様
AR19: 2 | AU19: Ｕ形側溝 | BC19: 300x300x200 | BJ19: ○ | BM19: 200 | BR19: ｍ | BT19: 2000 | BZ19: －
AR20: 2 | AU20: Ｌ形側溝 | BC20: 250A | BJ20: × | BM20: 100 | BR20: ｍ | BT20: 1000 | BZ20: ○ | CG20: 県産資材欄 | CL20: 材料使用承認願の記載と同様の記号をリストから選択
AR21: 2 | AU21: コンクリート積ブロック | BC21: 300x400x350 | BJ21: ○ | BM21: 200 | BR21: m2 | BT21: 4000 | BZ21: －
AR22: 2 | AU22: 落蓋側溝Ａ型・ＣＧ型 | BC22: 300x300x2000 | BJ22: ○ | BM22: 20 | BR22: ｍ | BT22: 1000 | BZ22: － | CG22: 数量・金額欄 | CL22: 設計数量（金額）を原則とするが、使用数量（支払金額）でも可
AR23: 2 | AU23: 蓋版 | BC23: 300用 | BJ23: × | BM23: 200 | BR23: 枚 | BT23: 1000 | BZ23: △
AR24: 1 | AU24: レディミクストコンクリート | BC24: 18-8-20 | BJ24: ○ | BM24: 2 | BR24: ｔ | BT24: 2000 | BZ24: － | CG24: 調達業者欄 | CL24: ・県産資材欄が「○」の場合 →「－」 | CU24: ・県産資材欄が「×」の場合 不使用報告書の県内本支店欄が 「○」の場合は →「○」 「×」「○」の場合は→「△」 「×」「×」の場合は→「×」
AR25: 3 | AU25: 砕石 | BC25: 40mm | BJ25: × | BM25: 1000 | BR25: m3 | BT25: 5000 | BZ25: ×
B26: 県産（県内）使用率 | M26: 品目 | R26: ○ | T26: =COUNTIF(T19:V25,"○") -> 0 | W26: 金額 | AB26: ○ | AD26: =SUMIF(T19:V25,"○",AD19:AI25) -> 0 | AJ26: ○ | AL26: △ | AN26: ×
R27: 全 | T27: =COUNTIF(T19:V25,"○")+COUNTIF(T19:V25,"×") -> 0 | AB27: 全 | AD27: =SUM(AD19:AI25) -> 0 | AJ27: =COUNTIF(AJ19:AO25,"○") -> 0 | AL27: =COUNTIF(AJ19:AO25,"△") -> 0 | AN27: =COUNTIF(AJ19:AO25,"×") -> 0 | AR27: 県産（県内）使用率 | BC27: 品目 | BH27: ○ | BJ27: =COUNTIF(BJ19:BL26,"○") -> 4 | BM27: 金額 | BR27: ○ | BT27: =SUMIF(BJ19:BL26,"○",BT19:BY26) -> 9000 | BZ27: ○ | CB27: △ | CD27: ×
B28: その他資材 | BH28: 全 | BJ28: =COUNTIF(BJ19:BL26,"○")+COUNTIF(BJ19:BL26,"×") -> 7 | BR28: 全 | BT28: =SUM(BT19:BY26) -> 16000 | BZ28: =COUNTIF(BZ19:CE26,"○") -> 1 | CB28: =COUNTIF(BZ19:CE26,"△") -> 1 | CD28: =COUNTIF(BZ19:CE26,"×") -> 1
AR29: その他資材 | CG29: ※数量･金額･業者欄は、「その他資材」は対象外
B30: 8
B31: 8 | AR31: 8 | AU31: 鋼管杭 | BC31: SKK400 | BJ31: ×
B32: 8 | AR32: 8
B33: 8 | AR33: 8
B34: 8 | AR34: 8
B35: 8 | AR35: 8
B36: 8 | AR36: 8
B37: 8 | AR37: 8
B38: 8 | AR38: 8
B39: 県産（県内）使用率 | M39: 品目 | R39: ○ | T39: =COUNTIF(T25:V38,"○") -> 0 | AR39: 県産（県内）使用率 | BC39: 品目 | BH39: ○ | BJ39: =COUNTIF(BJ31:BL38,"○") -> 0
R40: 全 | T40: =COUNTIF(T25:V38,"○")+COUNTIF(T25:V38,"×") -> 0 | BH40: 全 | BJ40: =COUNTIF(BJ31:BL38,"○")+COUNTIF(BJ31:BL38,"×") -> 1

Sheet 70
A1: 別紙１
A2: 建設キャリアアップシステム活用工事報告書
A3: 工事名
B4: =入力用!B6 -> ■■事業 ●●地区 ▲-▲工区
A5: 項目名 | B5: 未達成の要因 | C5: 改善策
A6: 登録事業者率
A7: 登録技能者率
A8: 就業履歴蓄積率
A9: ※目標基準のいずれかが未達成の場合、本様式を発注者（工事完成書類に添付）に提出すること。

Sheet 71
B4: 休日取得計画実績表【週単位】 | AA4: 休日取得計画実績表【週単位】 | AZ4: 休日取得計画実績表【週単位】 | BY4: 休日取得計画実績表【週単位】
B6: 工事名 | F6: ： | G6: =入力用!$B$6 -> ■■事業 ●●地区 ▲-▲工区 | AA6: 工事名 | AE6: ： | AF6: =入力用!$B$6 -> ■■事業 ●●地区 ▲-▲工区 | AZ6: 工事名 | BD6: ： | BE6: =入力用!$B$6 -> ■■事業 ●●地区 ▲-▲工区 | BY6: 工事名 | CC6: ： | CD6: =入力用!$B$6 -> ■■事業 ●●地区 ▲-▲工区
B7: 工事着手日 | F7: ： | G7: =入力用!$B$9 -> 46114 | K7: =TEXT(WEEKDAY(+G7),"aaa") -> 木 | AA7: 工事着手日 | AE7: ： | AF7: =入力用!$B$9 -> 46114 | AJ7: =K7 -> 木 | AZ7: 工事着手日 | BD7: ： | BE7: =入力用!$B$9 -> 46114 | BI7: =AJ7 -> 木 | BY7: 工事着手日 | CC7: ： | CD7: =入力用!$B$9 -> 46114 | CH7: =BI7 -> 木
B8: 工事完成届出日(予定) | F8: ： | G8: =入力用!$B$10 -> 46477 | K8: =TEXT(WEEKDAY(+G8),"aaa") -> 水 | M8: 工事期間 | P8: ： | Q8: =+G8-G7+1 -> 364 | S8: 日間 | AA8: 工事完成届出日(予定) | AE8: ： | AF8: =入力用!$B$10 -> 46477 | AJ8: =K8 -> 水 | AL8: 工事期間 | AO8: ： | AP8: =$Q8 -> 364 | AR8: 日間 | AZ8: 工事完成届出日(予定) | BD8: ： | BE8: =入力用!$B$10 -> 46477 | BI8: =AJ8 -> 水 | BK8: 工事期間 | BN8: ： | BO8: =$Q8 -> 364 | BQ8: 日間 | BY8: 工事完成届出日(予定) | CC8: ： | CD8: =入力用!$B$10 -> 46477 | CH8: =BI8 -> 水 | CJ8: 工事期間 | CM8: ： | CN8: =$Q8 -> 364 | CP8: 日間
C10: =YEAR(G7) -> 2026 | D10: =MONTH(G7) -> 4 | E10: =DAY(G7) -> 2 | F10: =DATE(C10,D10,DAY(E10)) -> 46114 | O10: =YEAR(I116+1) -> 2026 | P10: =MONTH(I116+1) -> 5 | Q10: =DAY(I116+1) -> 25 | R10: =DATE(O10,P10,DAY(Q10)) -> 46167 | AB10: =YEAR(U116+1) -> 2026 | AC10: =MONTH(U116+1) -> 7 | AD10: =DAY(U116+1) -> 20 | AE10: =DATE(AB10,AC10,DAY(AD10)) -> 46223 | AN10: =YEAR(AH116+1) -> 2026 | AO10: =MONTH(AH116+1) -> 9 | AP10: =DAY(AH116+1) -> 14 | AQ10: =DATE(AN10,AO10,DAY(AP10)) -> 46279 | BA10: =YEAR(AT116+1) -> 2026 | BB10: =MONTH(AT116+1) -> 11 | BC10: =DAY(AT116+1) -> 9 | BD10: =DATE(BA10,BB10,DAY(BC10)) -> 46335 | BM10: =YEAR(BG116+1) -> 2027 | BN10: =MONTH(BG116+1) -> 1 | BO10: =DAY(BG116+1) -> 4 | BP10: =DATE(BM10,BN10,DAY(BO10)) -> 46391 | BZ10: =YEAR(BS116+1) -> 2027 | CA10: =MONTH(BS116+1) -> 3 | CB10: =DAY(BS116+1) -> 1 | CC10: =DATE(BZ10,CA10,DAY(CB10)) -> 46447 | CL10: =YEAR(CF116+1) -> 2027 | CM10: =MONTH(CF116+1) -> 4 | CN10: =DAY(CF116+1) -> 26 | CO10: =DATE(CL10,CM10,DAY(CN10)) -> 46503
C11: =D11-1 -> 46111 | D11: =E11-1 -> 46112 | E11: =F11-1 -> 46113 | F11: =G11-1 -> 46114 | G11: =H11-1 -> 46115 | H11: =I11-1 -> 46116 | I11: =DATE(C10,D10,I14) -> 46117 | O11: =I116+1 -> 46167 | P11: =O11+1 -> 46168 | Q11: =P11+1 -> 46169 | R11: =Q11+1 -> 46170 | S11: =R11+1 -> 46171 | T11: =S11+1 -> 46172 | U11: =T11+1 -> 46173 | AB11: =U116+1 -> 46223 | AC11: =AB11+1 -> 46224 | AD11: =AC11+1 -> 46225 | AE11: =AD11+1 -> 46226 | AF11: =AE11+1 -> 46227 | AG11: =AF11+1 -> 46228 | AH11: =AG11+1 -> 46229 | AN11: =AH116+1 -> 46279 | AO11: =AN11+1 -> 46280 | AP11: =AO11+1 -> 46281 | AQ11: =AP11+1 -> 46282 | AR11: =AQ11+1 -> 46283 | AS11: =AR11+1 -> 46284 | AT11: =AS11+1 -> 46285 | BA11: =AT116+1 -> 46335 | BB11: =BA11+1 -> 46336 | BC11: =BB11+1 -> 46337 | BD11: =BC11+1 -> 46338 | BE11: =BD11+1 -> 46339 | BF11: =BE11+1 -> 46340 | BG11: =BF11+1 -> 46341 | BM11: =BG116+1 -> 46391 | BN11: =BM11+1 -> 46392 | BO11: =BN11+1 -> 46393 | BP11: =BO11+1 -> 46394 | BQ11: =BP11+1 -> 46395 | BR11: =BQ11+1 -> 46396 | BS11: =BR11+1 -> 46397 | BZ11: =BS116+1 -> 46447 | CA11: =BZ11+1 -> 46448 | CB11: =CA11+1 -> 46449 | CC11: =CB11+1 -> 46450 | CD11: =CC11+1 -> 46451 | CE11: =CD11+1 -> 46452 | CF11: =CE11+1 -> 46453 | CL11: =CF116+1 -> 46503 | CM11: =CL11+1 -> 46504 | CN11: =CM11+1 -> 46505 | CO11: =CN11+1 -> 46506 | CP11: =CO11+1 -> 46507 | CQ11: =CP11+1 -> 46508 | CR11: =CQ11+1 -> 46509
B12: 月 | C12: =DATE($C10,$D10,1) -> 46113 | N12: 月 | O12: =DATE($O10,$P10,1) -> 46143 | AA12: 月 | AB12: =DATE($AB10,$AC10,1) -> 46204 | AM12: 月 | AN12: =DATE($AN10,$AO10,1) -> 46266 | AZ12: 月 | BA12: =DATE(BA10,BB10,1) -> 46327 | BL12: 月 | BM12: =DATE(BM10,BN10,1) -> 46388 | BY12: 月 | BZ12: =DATE(BZ10,CA10,1) -> 46447 | CK12: 月 | CL12: =DATE(CL10,CM10,1) -> 46478
C13: =IF("月"=$K7,$E10,"") | D13: =IF(C13="",IF("火"=$K7,$E10,""),C13+1) | E13: =IF(D13="",IF("水"=$K7,$E10,""),D13+1) | F13: =IF(E13="",IF("木"=$K7,$E10,""),E13+1) -> 2 | G13: =IF(F13="",IF("金"=$K7,$E10,""),F13+1) -> 3 | H13: =G13+1 -> 4 | I13: =H13+1 -> 5 | O13: =DATE($O10,$P10,DAY($Q10)) -> 46167 | P13: =O13+1 -> 46168 | Q13: =P13+1 -> 46169 | R13: =Q13+1 -> 46170 | S13: =R13+1 -> 46171 | T13: =S13+1 -> 46172 | U13: =T13+1 -> 46173 | AB13: =DATE($AB10,$AC10,DAY($AD10)) -> 46223 | AC13: =AB13+1 -> 46224 | AD13: =AC13+1 -> 46225 | AE13: =AD13+1 -> 46226 | AF13: =AE13+1 -> 46227 | AG13: =AF13+1 -> 46228 | AH13: =AG13+1 -> 46229 | AN13: =DATE($AN10,$AO10,DAY($AP10)) -> 46279 | AO13: =AN13+1 -> 46280 | AP13: =AO13+1 -> 46281 | AQ13: =AP13+1 -> 46282 | AR13: =AQ13+1 -> 46283 | AS13: =AR13+1 -> 46284 | AT13: =AS13+1 -> 46285 | BA13: =DATE($BA10,$BB10,DAY($BC10)) -> 46335 | BB13: =BA13+1 -> 46336 | BC13: =BB13+1 -> 46337 | BD13: =BC13+1 -> 46338 | BE13: =BD13+1 -> 46339 | BF13: =BE13+1 -> 46340 | BG13: =BF13+1 -> 46341 | BM13: =DATE($BM10,$BN10,DAY($BO10)) -> 46391 | BN13: =BM13+1 -> 46392 | BO13: =BN13+1 -> 46393 | BP13: =BO13+1 -> 46394 | BQ13: =BP13+1 -> 46395 | BR13: =BQ13+1 -> 46396 | BS13: =BR13+1 -> 46397 | BZ13: =DATE($BZ10,$CA10,DAY($CB10)) -> 46447 | CA13: =BZ13+1 -> 46448 | CB13: =CA13+1 -> 46449 | CC13: =CB13+1 -> 46450 | CD13: =CC13+1 -> 46451 | CE13: =CD13+1 -> 46452 | CF13: =CE13+1 -> 46453 | CL13: =DATE($CL10,$CM10,DAY($CN10)) -> 46503 | CM13: =CL13+1 -> 46504 | CN13: =CM13+1 -> 46505 | CO13: =CN13+1 -> 46506 | CP13: =CO13+1 -> 46507 | CQ13: =CP13+1 -> 46508 | CR13: =CQ13+1 -> 46509
B14: 日 | C14: =IF("月"=$K7,$E10,"") | D14: =IF(C14="",IF("火"=$K7,$E10,""),C14+1) | E14: =IF(D14="",IF("水"=$K7,$E10,""),D14+1) | F14: =IF(E14="",IF("木"=$K7,$E10,""),E14+1) -> 2 | G14: =IF(F14="",IF("金"=$K7,$E10,""),F14+1) -> 3 | H14: =IF(G14="",IF("土"=$K7,$E10,""),G14+1) -> 4 | I14: =IF(H14="",IF("日"=$K7,$E10,""),H14+1) -> 5 | J14: 土日祝日数 | K14: =+COUNTIFS(C15:I15,"土",C19:I19,"")+COUNTIFS(C15:I15,"日",C19:I19,"")+COUNTIFS(祝日,C11)+COUNTIFS(祝日,D11)+COUNTIFS(祝日,E11)+COUNTIFS(祝日,F11)+COUNTIFS(祝日,G11) -> 2 | N14: 日 | O14: =IF(I116<$G$8,I116+1,"") -> 46167 | P14: =IF(O11<$G$8,O14+1,"") -> 46168 | Q14: =IF(P11<$G$8,P14+1,"") -> 46169 | R14: =IF(Q11<$G$8,Q14+1,"") -> 46170 | S14: =IF(R11<$G$8,R14+1,"") -> 46171 | T14: =IF(S11<$G$8,S14+1,"") -> 46172 | U14: =IF(T11<$G$8,T14+1,"") -> 46173 | V14: 土日祝日数 | W14: =+COUNTIFS(O15:U15,"土",O19:U19,"")+COUNTIFS(O15:U15,"日",O19:U19,"")+COUNTIFS(祝日,O11)+COUNTIFS(祝日,P11)+COUNTIFS(祝日,Q11)+COUNTIFS(祝日,R11)+COUNTIFS(祝日,S11) -> 2 | AA14: 日 | AB14: =IF(U116<$G$8,U116+1,"") -> 46223 | AC14: =IF(AB11<$G$8,AB14+1,"") -> 46224 | AD14: =IF(AC11<$G$8,AC14+1,"") -> 46225 | AE14: =IF(AD11<$G$8,AD14+1,"") -> 46226 | AF14: =IF(AE11<$G$8,AE14+1,"") -> 46227 | AG14: =IF(AF11<$G$8,AF14+1,"") -> 46228 | AH14: =IF(AG11<$G$8,AG14+1,"") -> 46229 | AI14: 土日祝日数 | AJ14: =+COUNTIFS(AB15:AH15,"土",AB19:AH19,"")+COUNTIFS(AB15:AH15,"日",AB19:AH19,"")+COUNTIFS(祝日,AB11)+COUNTIFS(祝日,AC11)+COUNTIFS(祝日,AD11)+COUNTIFS(祝日,AE11)+COUNTIFS(祝日,AF11) -> 3 | AM14: 日 | AN14: =IF(AH116<$G$8,AH116+1,"") -> 46279 | AO14: =IF(AN11<$G$8,AN14+1,"") -> 46280 | AP14: =IF(AO11<$G$8,AO14+1,"") -> 46281 | AQ14: =IF(AP11<$G$8,AP14+1,"") -> 46282 | AR14: =IF(AQ11<$G$8,AQ14+1,"") -> 46283 | AS14: =IF(AR11<$G$8,AR14+1,"") -> 46284 | AT14: =IF(AS11<$G$8,AS14+1,"") -> 46285 | AU14: 土日祝日数 | AV14: =+COUNTIFS(AN15:AT15,"土",AN19:AT19,"")+COUNTIFS(AN15:AT15,"日",AN19:AT19,"")+COUNTIFS(祝日,AN11)+COUNTIFS(祝日,AO11)+COUNTIFS(祝日,AP11)+COUNTIFS(祝日,AQ11)+COUNTIFS(祝日,AR11) -> 2 | AZ14: 日 | BA14: =IF(AT116<$G$8,AT116+1,"") -> 46335 | BB14: =IF(BA11<$G$8,BA14+1,"") -> 46336 | BC14: =IF(BB11<$G$8,BB14+1,"") -> 46337 | BD14: =IF(BC11<$G$8,BC14+1,"") -> 46338 | BE14: =IF(BD11<$G$8,BD14+1,"") -> 46339 | BF14: =IF(BE11<$G$8,BE14+1,"") -> 46340 | BG14: =IF(BF11<$G$8,BF14+1,"") -> 46341 | BH14: 土日祝日数 | BI14: =+COUNTIFS(BA15:BG15,"土",BA19:BG19,"")+COUNTIFS(BA15:BG15,"日",BA19:BG19,"")+COUNTIFS(祝日,BA11)+COUNTIFS(祝日,BB11)+COUNTIFS(祝日,BC11)+COUNTIFS(祝日,BD11)+COUNTIFS(祝日,BE11) -> 2 | BL14: 日 | BM14: =IF(BG116<$G$8,BG116+1,"") -> 46391 | BN14: =IF(BM11<$G$8,BM14+1,"") -> 46392 | BO14: =IF(BN11<$G$8,BN14+1,"") -> 46393 | BP14: =IF(BO11<$G$8,BO14+1,"") -> 46394 | BQ14: =IF(BP11<$G$8,BP14+1,"") -> 46395 | BR14: =IF(BQ11<$G$8,BQ14+1,"") -> 46396 | BS14: =IF(BR11<$G$8,BR14+1,"") -> 46397 | BT14: 土日祝日数 | BU14: =+COUNTIFS(BM15:BS15,"土",BM19:BS19,"")+COUNTIFS(BM15:BS15,"日",BM19:BS19,"")+COUNTIFS(祝日,BM11)+COUNTIFS(祝日,BN11)+COUNTIFS(祝日,BO11)+COUNTIFS(祝日,BP11)+COUNTIFS(祝日,BQ11) -> 1 | BY14: 日 | BZ14: =IF(BS116<$G$8,BS116+1,"") -> 46447 | CA14: =IF(BZ11<$G$8,BZ14+1,"") -> 46448 | CB14: =IF(CA11<$G$8,CA14+1,"") -> 46449 | CC14: =IF(CB11<$G$8,CB14+1,"") -> 46450 | CD14: =IF(CC11<$G$8,CC14+1,"") -> 46451 | CE14: =IF(CD11<$G$8,CD14+1,"") -> 46452 | CF14: =IF(CE11<$G$8,CE14+1,"") -> 46453 | CG14: 土日祝日数 | CH14: =+COUNTIFS(BZ15:CF15,"土",BZ19:CF19,"")+COUNTIFS(BZ15:CF15,"日",BZ19:CF19,"")+COUNTIFS(祝日,BZ11)+COUNTIFS(祝日,CA11)+COUNTIFS(祝日,CB11)+COUNTIFS(祝日,CC11)+COUNTIFS(祝日,CD11) -> 2 | CK14: 日 | CL14: =IF(CF116<$G$8,CF116+1,"") | CM14: =IF(CL11<$G$8,CL14+1,"") | CN14: =IF(CM11<$G$8,CM14+1,"") | CO14: =IF(CN11<$G$8,CN14+1,"") | CP14: =IF(CO11<$G$8,CO14+1,"") | CQ14: =IF(CP11<$G$8,CP14+1,"") | CR14: =IF(CQ11<$G$8,CQ14+1,"") | CS14: 土日祝日数 | CT14: =+COUNTIFS(CL15:CR15,"土",CL19:CR19,"")+COUNTIFS(CL15:CR15,"日",CL19:CR19,"")+COUNTIFS(祝日,CL11)+COUNTIFS(祝日,CM11)+COUNTIFS(祝日,CN11)+COUNTIFS(祝日,CO11)+COUNTIFS(祝日,CP11) -> 1
